BEGIN:VCALENDAR
VERSION:2.0
PRODID:-//Dancing Wheels - ECPv6.15.20//NONSGML v1.0//EN
CALSCALE:GREGORIAN
METHOD:PUBLISH
X-ORIGINAL-URL:https://dancingwheels.org
X-WR-CALDESC:Events for Dancing Wheels
REFRESH-INTERVAL;VALUE=DURATION:PT1H
X-Robots-Tag:noindex
X-PUBLISHED-TTL:PT1H
BEGIN:VTIMEZONE
TZID:America/New_York
BEGIN:DAYLIGHT
TZOFFSETFROM:-0500
TZOFFSETTO:-0400
TZNAME:EDT
DTSTART:20250309T070000
END:DAYLIGHT
BEGIN:STANDARD
TZOFFSETFROM:-0400
TZOFFSETTO:-0500
TZNAME:EST
DTSTART:20251102T060000
END:STANDARD
BEGIN:DAYLIGHT
TZOFFSETFROM:-0500
TZOFFSETTO:-0400
TZNAME:EDT
DTSTART:20260308T070000
END:DAYLIGHT
BEGIN:STANDARD
TZOFFSETFROM:-0400
TZOFFSETTO:-0500
TZNAME:EST
DTSTART:20261101T060000
END:STANDARD
BEGIN:DAYLIGHT
TZOFFSETFROM:-0500
TZOFFSETTO:-0400
TZNAME:EDT
DTSTART:20270314T070000
END:DAYLIGHT
BEGIN:STANDARD
TZOFFSETFROM:-0400
TZOFFSETTO:-0500
TZNAME:EST
DTSTART:20271107T060000
END:STANDARD
END:VTIMEZONE
BEGIN:VEVENT
DTSTART;TZID=America/New_York:20260207T140000
DTEND;TZID=America/New_York:20260207T150000
DTSTAMP:20260421T080204
CREATED:20251231T222638Z
LAST-MODIFIED:20260116T005036Z
UID:9663-1770472800-1770476400@dancingwheels.org
SUMMARY:Dancing Wheels Company presents "Puff the Magic Dragon!"
DESCRIPTION:Join us for the premiere of Puff the Magic Dragon! \nThis endearing story of a lonely child who transcends his fears and doubts by creating a “magical” friend\, Puff! \nPuff\, an imaginary dragon\, creates a world of adventure and fun-loving antics as he and Jackie visit fantastical places where they make new friends who are quite unique. Jackie learns how\, despite their differences\, they accept and love each other. \nSadly\, as Jackie grows up\, his magical journey with Puff fades\, but he never forgets the life lessons of accepting others and true friendship. \nDate/Time: \nFebruary 7\, 2026         2:00 PM \nLocation: \nRickel Theater within Royce Hall at Lake Erie College in Painesville\, OH \n391 West Washington Street\, Painesville\, Ohio 44077 (Main Address for Lake Erie College) \n(Use 150 Gillett St\, Painesville\, OH 44077 for GPS navigation) \nTickets: \nAdults $25 \nYouth $15 (ages 16 and under) \nThe performance is general admission\, and seating is limited. \nTickets can be purchased online or by calling the Dancing Wheels office at 216-432-0306. A 4% credit card processing fee applies to all credit card orders. \nPlease get in touch with us by email (marketing@dancingwheels.org) or phone (216-432-0306) with accessibility inquiries.
URL:https://dancingwheels.org/event/puff-the-magic-dragon/
LOCATION:Rickel Theater within Royce Hall at Lake Erie College in Painesville\, OH\, 150 Gillett Street\, Painesville\, OH\, 44077\, United States
CATEGORIES:Performance
ATTACH;FMTTYPE=image/jpeg:https://dancingwheels.org/wp-content/uploads/2025/12/Final_Puff_The_Magic_Dragon_Illustration_-scaled.jpg
END:VEVENT
BEGIN:VEVENT
DTSTART;TZID=America/New_York:20260228T183000
DTEND;TZID=America/New_York:20260228T223000
DTSTAMP:20260421T080204
CREATED:20260116T004032Z
LAST-MODIFIED:20260202T012730Z
UID:9733-1772303400-1772317800@dancingwheels.org
SUMMARY:Dancing Wheels' 16th Annual Night at the Races
DESCRIPTION:Ready for an entertaining evening of gaming that supports Dancing Wheels’ education and outreach programs? Night at the Races is right around the corner! \nThe event will be held at Cleveland’s premier event center\, Majestic Hall\, right around the corner from the Dancing Wheels Studios. Self-parking will be in the Dancing Wheels lot\, and you can enter the gorgeous event venue from the steps facing Euclid Avenue. For the accessible entrance\, continue to the side door off E. 30th Street. A ramp and an elevator will be available to accommodate one wheelchair user at a time. \nGeneral admission is $30 per person\, or you can purchase a table of 8 for $210 (save $30). Admission includes access to the event\, pizza\, snacks\, and non-alcoholic beverages\, and BYOB is back! \nBuy and Name a Horse for $20! If your horse wins\, so do you! (Winners need not be present to win.)** \nBe a Race Sponsor for $50 and place a FREE ad in the Race Program! \nReverse Raffle: Buy a $20 ticket and win a pot of cash up to $800! (You must be present to win.) \nBucket of Booze Raffle: One ticket for $20 or three for $50 enters you for a chance to win hundreds of dollars in libations. (Must be present to win.) \nIn addition to the raffle and sponsorship opportunities listed above\, 50-50 and lotto ticket raffle sideboards will be available throughout the evening! \n**Tell our administrators what you would like your horse’s name to be: email.
URL:https://dancingwheels.org/event/night-at-the-races-2026/
LOCATION:Majestic Hall\, 3000 Euclid Avenue\, Cleveland\, OH\, 44115\, United States
CATEGORIES:Fundraising
ATTACH;FMTTYPE=image/png:https://dancingwheels.org/wp-content/uploads/2026/01/DW-NATR-2026-Banner-scaled.png
ORGANIZER;CN="Dancing Wheels Company & School":MAILTO:info@dancingwheels.org
END:VEVENT
END:VCALENDAR