BEGIN:VCALENDAR
VERSION:2.0
PRODID:-//Dancing Wheels - ECPv6.15.20//NONSGML v1.0//EN
CALSCALE:GREGORIAN
METHOD:PUBLISH
X-WR-CALNAME:Dancing Wheels
X-ORIGINAL-URL:https://dancingwheels.org
X-WR-CALDESC:Events for Dancing Wheels
REFRESH-INTERVAL;VALUE=DURATION:PT1H
X-Robots-Tag:noindex
X-PUBLISHED-TTL:PT1H
BEGIN:VTIMEZONE
TZID:America/New_York
BEGIN:DAYLIGHT
TZOFFSETFROM:-0500
TZOFFSETTO:-0400
TZNAME:EDT
DTSTART:20200308T070000
END:DAYLIGHT
BEGIN:STANDARD
TZOFFSETFROM:-0400
TZOFFSETTO:-0500
TZNAME:EST
DTSTART:20201101T060000
END:STANDARD
BEGIN:DAYLIGHT
TZOFFSETFROM:-0500
TZOFFSETTO:-0400
TZNAME:EDT
DTSTART:20210314T070000
END:DAYLIGHT
BEGIN:STANDARD
TZOFFSETFROM:-0400
TZOFFSETTO:-0500
TZNAME:EST
DTSTART:20211107T060000
END:STANDARD
BEGIN:DAYLIGHT
TZOFFSETFROM:-0500
TZOFFSETTO:-0400
TZNAME:EDT
DTSTART:20220313T070000
END:DAYLIGHT
BEGIN:STANDARD
TZOFFSETFROM:-0400
TZOFFSETTO:-0500
TZNAME:EST
DTSTART:20221106T060000
END:STANDARD
END:VTIMEZONE
BEGIN:VEVENT
DTSTART;TZID=America/New_York:20211012T093000
DTEND;TZID=America/New_York:20211012T113000
DTSTAMP:20260423T013718
CREATED:20210920T012107Z
LAST-MODIFIED:20210920T012107Z
UID:6226-1634031000-1634038200@dancingwheels.org
SUMMARY:In-Studio Observation for Cleveland State University 9:30AM
DESCRIPTION:The Dancing Wheels Company to hold an in-studio observation and participatory experience for Department of Physical Therapy students at Cleveland State University.
URL:https://dancingwheels.org/event/in-studio-observation-for-cleveland-state-university-930am/
LOCATION:The Dancing Wheels Company Studio\, 3030 Euclid Avenue\, Cleveland\, OH\, 44115\, United States
CATEGORIES:In-studio observation,Training,Workshop
ORGANIZER;CN="Dancing Wheels Company & School":MAILTO:info@dancingwheels.org
END:VEVENT
BEGIN:VEVENT
DTSTART;TZID=America/New_York:20211002T140000
DTEND;TZID=America/New_York:20211002T143000
DTSTAMP:20260423T013718
CREATED:20210919T234559Z
LAST-MODIFIED:20210919T234559Z
UID:6223-1633183200-1633185000@dancingwheels.org
SUMMARY:Guest Appearance Performance at Abilities Expo NY Metro 2PM
DESCRIPTION:The Dancing WheelsCompany will present afreeGuest Appearance Performance at Abilities Expo NY Metro from 2-2:30 PM.For more information\, click HERE.
URL:https://dancingwheels.org/event/guest-appearance-performance-at-abilities-expo-ny-metro-2pm/
LOCATION:New Jersey Convention and Exposition Center\, 97 Sunfield Ave.\, Edison\, NJ\, 08837\, United States
CATEGORIES:Guest Appearance,Performance,Performances
END:VEVENT
BEGIN:VEVENT
DTSTART;TZID=America/New_York:20210925T140000
DTEND;TZID=America/New_York:20210925T160000
DTSTAMP:20260423T013718
CREATED:20210919T233535Z
LAST-MODIFIED:20210919T233535Z
UID:6216-1632578400-1632585600@dancingwheels.org
SUMMARY:Guest Appearance Performances at Forward Motion 3 at 2PM and 8PM
DESCRIPTION:The Dancing Wheels Company will present two Guest Appearance Performances at Forward Motion 3. A matinee performance will be held at 2PM and an evening performance will be held at 8PM. Information on ticketing available HERE.
URL:https://dancingwheels.org/event/guest-appearance-performances-at-forward-motion-3-at-2pm-and-8pm/
LOCATION:Miami-Dade County Auditorium\, 2901 W Flagler St\, Miami\, FL\, 33135\, United States
CATEGORIES:Guest Appearance,Performance,Performances
END:VEVENT
BEGIN:VEVENT
DTSTART;TZID=America/New_York:20210922T170000
DTEND;TZID=America/New_York:20210922T183000
DTSTAMP:20260423T013718
CREATED:20210919T232808Z
LAST-MODIFIED:20210919T233629Z
UID:6210-1632330000-1632335400@dancingwheels.org
SUMMARY:Dancing Wheels Workshop at Forward Motion 3 at 5PM
DESCRIPTION:“Become a T.E.A.M. Player with Dancing Wheels” allows participants of all abilities the opportunity to engage in an inclusive dance and movement experience based on the Dancing Wheels Company’s foundational principles of Translation\, Equity\, Accessibility\, and Meaning. Master Teachers Mary Verdi-Fletcher and Sara Lawrence-Sucato will lead the workshop using the Dancing Wheels methodologies of physically integrated dance rooted in scientific research and creative inquiry. Forward Motion Workshops are for the general public\, for those with and without disabilities\, and for dance professionals and students. $10 Per Individual Workshop CASH at the door only. More information on this workshop available HERE.
URL:https://dancingwheels.org/event/danci-ng-wheels-workshop-at-forward-motion-3-at-5pm/
LOCATION:Koubek Center\, 2705 SW 3rd St\, Miami\, FL\, 33135\, United States
CATEGORIES:Masterclass,Training,Workshop
END:VEVENT
BEGIN:VEVENT
DTSTART;TZID=America/New_York:20210916T190000
DTEND;TZID=America/New_York:20210916T200000
DTSTAMP:20260423T013718
CREATED:20210919T232328Z
LAST-MODIFIED:20210919T233712Z
UID:6207-1631818800-1631822400@dancingwheels.org
SUMMARY:ReelAbilities Virtual Dance Workshop 7PM
DESCRIPTION:A pre-taped virtual dance class led by Dancing Wheels will be emailed all whoregisterfor the ReelAbilities Virtual Film Series Opening Night: A Celebration of Performance Art! Register for free HERE.
URL:https://dancingwheels.org/event/reelabilities-virtual-dance-workshop-7pm/
LOCATION:Online
CATEGORIES:Masterclass,Training,Workshop
END:VEVENT
BEGIN:VEVENT
DTSTART;TZID=America/New_York:20210911T190000
DTEND;TZID=America/New_York:20210911T210000
DTSTAMP:20260423T013718
CREATED:20210919T232027Z
LAST-MODIFIED:20210919T233754Z
UID:6205-1631386800-1631394000@dancingwheels.org
SUMMARY:Vulcan’s Forge Performing Arts Collaborative presents “Wheels on Fire” 7PM
DESCRIPTION:Cleveland’s Dancing Wheels Company performs in “Wheels on Fire”.This return to Cincinnati by Dancing Wheels is brought to you by Vulcan’s Forge Performing Arts Collaborative a 501 (C) (3) arts organization serving challenged artists in the Greater Cincinnati region. Purchase tickets for the live performance at The Children’s Theatre of Cincinnati\, or for live-streaming online from the comfort of your home by clicking HERE.
URL:https://dancingwheels.org/event/vulcans-forge-performing-arts-collaborative-presents-wheels-on-fire-7pm/
LOCATION:The Children’s Theatre of Cincinnati\, 4015 Red Bank Rd\, Cincinnati\, OH\, 45227\, United States
CATEGORIES:Guest Appearance,Performance,Performances
END:VEVENT
BEGIN:VEVENT
DTSTART;TZID=America/New_York:20210911T110000
DTEND;TZID=America/New_York:20210911T120000
DTSTAMP:20260423T013718
CREATED:20210919T231708Z
LAST-MODIFIED:20210919T233924Z
UID:6200-1631358000-1631361600@dancingwheels.org
SUMMARY:Wheels on Fire Master Dance Workshop in Cincinnati\, OH at 11AM
DESCRIPTION:Acclaimed members of Cleveland’s world-renowned Dancing Wheels Companywillinstruct all those interested in their integrated dance technique. This workshop is for anybody that uses a wheelchair or is able-bodied that wants to experience the art of dance in new and exciting ways. Those who use a wheelchair for mobility will learnthat they too can dance\, and those who are able-bodied dancers will find a new form of physical expression with others. To register\, please click HERE.
URL:https://dancingwheels.org/event/wheels-on-fire-master-dance-workshop-in-cincinnati-oh-at-11am/
LOCATION:The Children’s Theatre of Cincinnati\, 4015 Red Bank Rd\, Cincinnati\, OH\, 45227\, United States
CATEGORIES:Training,Workshop
END:VEVENT
BEGIN:VEVENT
DTSTART;TZID=America/New_York:20210830T080000
DTEND;TZID=America/New_York:20210930T170000
DTSTAMP:20260423T013718
CREATED:20210919T234259Z
LAST-MODIFIED:20210919T234259Z
UID:6220-1630310400-1633021200@dancingwheels.org
SUMMARY:Dancing Wheels Company Residency at New Orleans Ballet Association
DESCRIPTION:The Dancing Wheels Company will hold a residency with New Orleans Ballet Association’s Freedom of Movement Adaptive Dance Program for Veterans. Seated and wheelchair-based Veteran participants are welcome to participate in these creative\, guided movement sessions. Residency to include both virtual and in-person sessions. More information available HERE.
URL:https://dancingwheels.org/event/dancing-wheels-company-residency-at-new-orleans-ballet-association/
LOCATION:Online
CATEGORIES:Community Engagement Opportunity,Guest Speaking,Lecture Performance,Performance,Performances,Residency,Training,Workshop
END:VEVENT
BEGIN:VEVENT
DTSTART;VALUE=DATE:20210806
DTEND;VALUE=DATE:20210807
DTSTAMP:20260423T013718
CREATED:20210522T150323Z
LAST-MODIFIED:20210522T150409Z
UID:6114-1628208000-1628294399@dancingwheels.org
SUMMARY:Dancing Wheels Company presents “A Midsummer Night’s Dream"
DESCRIPTION:The Dancing Wheels Company presents “A Midsummer Night’s Dream” at Cain Park. \nLocation: Cain Park Evans Amphitheater\, 14591 Superior Rd\, Cleveland Heights\, OH 44118.
URL:https://dancingwheels.org/event/dancing-wheels-company-presents-a-midsummer-nights-dream/
LOCATION:OH
END:VEVENT
BEGIN:VEVENT
DTSTART;TZID=America/New_York:20210719T090000
DTEND;TZID=America/New_York:20210724T170000
DTSTAMP:20260423T013718
CREATED:20210210T220208Z
LAST-MODIFIED:20210210T220419Z
UID:5676-1626685200-1627146000@dancingwheels.org
SUMMARY:Dancing Wheels Company Teacher Certification Level 2 Program
DESCRIPTION:This 40-hour intensive training for dance educators builds on Level 1 and uses the Dancing Wheels foundational principles and training method as a framework for creative inquiry and advanced practice. \nParticipants re-contextualize traditional modes of dance partnering and dance-making within a physically integrated environment and hone skills in developing translations for intermediate-to-advanced physically integrated dance classes. \nThe Level 2 intensive provides continued and advanced certification training for dance educators in the Dancing Wheels methodology. Participants must have obtained a Level 1 Certification as a prerequisite to this program. \nClick HERE for more information or to download a Pre-Evaluation and Registration Form.
URL:https://dancingwheels.org/event/dancing-wheels-company-teacher-certification-level-2-program/
LOCATION:The Dancing Wheels Company Studio\, 3030 Euclid Avenue\, Cleveland\, OH\, 44115\, United States
CATEGORIES:Teacher Certification,Training
ATTACH;FMTTYPE=image/png:https://dancingwheels.org/wp-content/uploads/2021/02/TC-promo-July-2021-with-border.png
END:VEVENT
BEGIN:VEVENT
DTSTART;TZID=America/New_York:20210712T090000
DTEND;TZID=America/New_York:20210717T170000
DTSTAMP:20260423T013718
CREATED:20210210T214009Z
LAST-MODIFIED:20210210T220358Z
UID:5665-1626080400-1626541200@dancingwheels.org
SUMMARY:Dancing Wheels Company Teacher Certification Level 1 Program
DESCRIPTION:This first-of-its-kind\, 40-hour intensive training is ideal for dance educators. Participants will learn how to apply the foundational principles of Dancing Wheels’ ground-breaking methodologies to incorporate physically integrated in their own dance practices. \nClick HERE for more information or to download a Pre-Evaluation & Registration Form.
URL:https://dancingwheels.org/event/dancing-wheels-company-teacher-certification-level-1-program/
LOCATION:The Dancing Wheels Company Studio\, 3030 Euclid Avenue\, Cleveland\, OH\, 44115\, United States
CATEGORIES:Teacher Certification,Training
ATTACH;FMTTYPE=image/png:https://dancingwheels.org/wp-content/uploads/2021/02/TC-promo-July-2021-with-border.png
ORGANIZER;CN="Dancing Wheels Company & School":MAILTO:info@dancingwheels.org
END:VEVENT
BEGIN:VEVENT
DTSTART;TZID=America/New_York:20210625T180000
DTEND;TZID=America/New_York:20210625T230000
DTSTAMP:20260423T013718
CREATED:20210515T202056Z
LAST-MODIFIED:20230120T063457Z
UID:6103-1624644000-1624662000@dancingwheels.org
SUMMARY:Dancing Wheels Company 40th Anniversary Gala - First\, Fierce\, and For Everyone!
DESCRIPTION:Celebrate four decades of integrated dance with the company that started it all\n– the Dancing Wheels Company – \nas we present First\, Fierce & For Everyone! \nFriday June 25\, 2021 at 8pm EST\nSeverance Hall \nBuy VIP & Live-Stream Tickets. \nBuy General Admission Tickets.
URL:https://dancingwheels.org/event/dancing-wheels-company-40th-anniversary-gala-first-fierce-and-for-everyone/
LOCATION:Severance Hall\, 11001 Euclid Ave\, Cleveland\, OH\, 44106\, United States
ATTACH;FMTTYPE=image/jpeg:https://dancingwheels.org/wp-content/uploads/2021/05/DW-gala2021-web.jpg
END:VEVENT
BEGIN:VEVENT
DTSTART;TZID=America/New_York:20210613T160000
DTEND;TZID=America/New_York:20210613T170000
DTSTAMP:20260423T013718
CREATED:20210515T201646Z
LAST-MODIFIED:20210515T201646Z
UID:6101-1623600000-1623603600@dancingwheels.org
SUMMARY:Guest Appearance Performance at the 2021 Virtual DUMBO Dance Festival 4 PM
DESCRIPTION:The Dancing Wheels Company will share a virtual performance at the 2021 Virtual DUMBO Dance Festival at 4 PM. Tickets to the festival will be available here: https://www.whitewavedance.org/dumbo-festival.
URL:https://dancingwheels.org/event/guest-appearance-performance-at-the-2021-virtual-dumbo-dance-festival-4-pm/
LOCATION:OH
END:VEVENT
BEGIN:VEVENT
DTSTART;TZID=America/New_York:20210612T130000
DTEND;TZID=America/New_York:20210612T140000
DTSTAMP:20260423T013718
CREATED:20210515T201454Z
LAST-MODIFIED:20210515T201454Z
UID:6098-1623502800-1623506400@dancingwheels.org
SUMMARY:Lecture Performance for Main Street Wooster 1 PM
DESCRIPTION:See a Lecture Performance by the Dancing Wheels Company at the close of the Annual Wooster Farmers’ Market!
URL:https://dancingwheels.org/event/lecture-performance-for-main-street-wooster-1-pm/
LOCATION:Downtown Wooster Pavilion\, 117 N Market St\, Wooster\, OH\, 44691\, United States
END:VEVENT
BEGIN:VEVENT
DTSTART;TZID=America/New_York:20210601T100000
DTEND;TZID=America/New_York:20210601T113000
DTSTAMP:20260423T013718
CREATED:20210522T150126Z
LAST-MODIFIED:20210522T150126Z
UID:6112-1622541600-1622547000@dancingwheels.org
SUMMARY:In-studio Observation for Cleveland State University’s Physical Therapy Department 10 AM
DESCRIPTION:The Dancing Wheels Company will holdan in-studio observation for Cleveland State University’s Physical Therapy Department.
URL:https://dancingwheels.org/event/in-studio-observation-for-cleveland-state-universitys-physical-therapy-department-10-am/
LOCATION:The Dancing Wheels Company Studio\, 3030 Euclid Avenue\, Cleveland\, OH\, 44115\, United States
END:VEVENT
BEGIN:VEVENT
DTSTART;TZID=America/New_York:20210528T135000
DTEND;TZID=America/New_York:20210528T150000
DTSTAMP:20260423T013718
CREATED:20210522T145651Z
LAST-MODIFIED:20210522T145651Z
UID:6110-1622209800-1622214000@dancingwheels.org
SUMMARY:Virtual Lecture Performance for John Eliot Elementary School 1:50 PM
DESCRIPTION:The Dancing Wheels Company will present a virtual lecture performance for students at John Eliot Elementary School in Needham\, MA.
URL:https://dancingwheels.org/event/virtual-lecture-performance-for-john-eliot-elementary-school-150-pm/
LOCATION:Online
END:VEVENT
BEGIN:VEVENT
DTSTART;VALUE=DATE:20210525
DTEND;VALUE=DATE:20210526
DTSTAMP:20260423T013718
CREATED:20210515T201231Z
LAST-MODIFIED:20210515T201231Z
UID:6096-1621900800-1621987199@dancingwheels.org
SUMMARY:Keynote for Nordonia Hills Rotary Club 12 PM
DESCRIPTION:Dancing Wheel’s President/Founding Artistic Director\, Mary Verdi-Fletcher\, will be giving a virtual keynote lecture to the Nordonia Hills Rotary Club.
URL:https://dancingwheels.org/event/keynote-for-nordonia-hills-rotary-club-12-pm/
LOCATION:OH
END:VEVENT
BEGIN:VEVENT
DTSTART;TZID=America/New_York:20210501T190000
DTEND;TZID=America/New_York:20210501T203000
DTSTAMP:20260423T013718
CREATED:20200310T200645Z
LAST-MODIFIED:20210313T230400Z
UID:4032-1619895600-1619901000@dancingwheels.org
SUMMARY:Guest Appearance Performance at OhioDance Festival Evening Performance in Columbus\, OH 7 PM EST
DESCRIPTION:April 25\, 2020 \nColumbus\, OH \nThe Dancing Wheels Company will perform at the 2021 OhioDance Virtual Festival Evening Concert at 7 PM.This show will be live-streamedon the Sched platform. Tickets for the performance and the festival are available through Eventbrite\, and tickets will be live until April 16\, 2021. \nTickets are available for purchase at https://ohiodance.org/festival/registration/
URL:https://dancingwheels.org/event/guest-appearance-performance-at-2020-ohiodance-festival-evening-performance-in-columbus-oh-7-pm/
LOCATION:OSU – Sullivant Hall\, 1813 North High Street\, Columbus\, OH\, 43210\, United States
CATEGORIES:Guest Appearance,Performance
END:VEVENT
BEGIN:VEVENT
DTSTART;TZID=America/New_York:20210501T140000
DTEND;TZID=America/New_York:20210501T150000
DTSTAMP:20260423T013718
CREATED:20210206T212354Z
LAST-MODIFIED:20210206T223917Z
UID:5661-1619877600-1619881200@dancingwheels.org
SUMMARY:Workshop at OhioDance Festival 2 PM
DESCRIPTION:The Dancing Wheels Company to teach an hour-long virtual workshop for the 2021 OhioDance Festival.
URL:https://dancingwheels.org/event/workshop-at-ohiodance-festival-2-pm/
LOCATION:Online
CATEGORIES:Masterclass,Workshop
END:VEVENT
BEGIN:VEVENT
DTSTART;TZID=America/New_York:20210430T153000
DTEND;TZID=America/New_York:20210430T163000
DTSTAMP:20260423T013718
CREATED:20210515T200304Z
LAST-MODIFIED:20210515T200304Z
UID:6094-1619796600-1619800200@dancingwheels.org
SUMMARY:Guest Appearance Performance at Cleveland Power of Sport Summit 3:30 PM
DESCRIPTION:Join the Dancing Wheels Companyas they present a guest appearance performance atthe Cleveland Power of Sport Summit! For more information on the Summit\, please visit https://www.clesportsummit.org/.
URL:https://dancingwheels.org/event/guest-appearance-performance-at-cleveland-power-of-sport-summit-330-pm/
LOCATION:Progressive Field\, 2401 Ontario Street\, Cleveland\, OH\, 44115\, United States
END:VEVENT
BEGIN:VEVENT
DTSTART;TZID=America/New_York:20210429T110000
DTEND;TZID=America/New_York:20210429T120000
DTSTAMP:20260423T013718
CREATED:20210515T200059Z
LAST-MODIFIED:20210515T200145Z
UID:6090-1619694000-1619697600@dancingwheels.org
SUMMARY:“Walking on Clouds” Lecture Performance at Cleveland Power of Sport Summit 1 PM
DESCRIPTION:The Dancing Wheels Company will present a free performance of the “Walking on Clouds” Lecture Performance at the Cleveland Power of Sport Summit! Using stories of equality/Rosa Parks\, this performancemixes words and movement to explore humanity and the boundaries of differences and equality\, both emotional and historical-between\,people with disabilities and people of color.For more information on the Summit\, please visit https://www.clesportsummit.org/.
URL:https://dancingwheels.org/event/walking-on-clouds-lecture-performance-at-cleveland-power-of-sport-summit-1-pm/
LOCATION:Progressive Field\, 2401 Ontario Street\, Cleveland\, OH\, 44115\, United States
END:VEVENT
BEGIN:VEVENT
DTSTART;TZID=America/New_York:20210426T110000
DTEND;TZID=America/New_York:20210426T120000
DTSTAMP:20260423T013718
CREATED:20210515T195723Z
LAST-MODIFIED:20210515T195808Z
UID:6088-1619434800-1619438400@dancingwheels.org
SUMMARY:Physically Integrated Dance Workshop at WDA - Americas 2021 Virtual Festival 11 AM EST
DESCRIPTION:Dance matters\, and it matters that a student of any varying physical\, sensory\, and intellectual ability is able to dance\, too! Instructors from The Dancing Wheels Company & School specialize in teaching physically integrated dance for people with and without disabilities. This virtual workshop(via Zoom)allows participants to engage in an inclusive dance experience based on the Company’s foundational principles of translation\, equity\, accessibility\, and meaning. Using the Dancing Wheels methodologies of physically integrated dance\, rooted in scientific research and creative inquiry\, the workshop class will teach modern technique for participants of all abilities. \nTo register for this class and the festival\, please visit https://wda-americas.com/conference-festivals/2021-virtual-assembly/
URL:https://dancingwheels.org/event/physically-integrated-dance-workshop-at-wda-americas-2021-virtual-festival-11-am-est/
LOCATION:OH
END:VEVENT
BEGIN:VEVENT
DTSTART;TZID=America/New_York:20210414T120000
DTEND;TZID=America/New_York:20210414T133000
DTSTAMP:20260423T013718
CREATED:20200117T144758Z
LAST-MODIFIED:20210313T225704Z
UID:3958-1618401600-1618407000@dancingwheels.org
SUMMARY:Guest Appearance Performance at Trinity Cathedral BrownBag Concert Series 12pm EST
DESCRIPTION:April 14\, 2021 \nCleveland\, OH \nThe Dancing Wheels Company will perform for theTrinity Cathedral BrownBag Concert Series at 12 PM. This show will be live-streamed on Music & Art at Trinity Cathedral’s Facebook page and the Trinity Cathedral website.
URL:https://dancingwheels.org/event/guest-appearance-performance-at-trinity-cathedral-brownbag-concert-series-2/
LOCATION:Trinity Cathedral\, 2230 Euclid Ave\, Cleveland\, OH\, 44115\, United States
CATEGORIES:Guest Appearance,Performance
END:VEVENT
BEGIN:VEVENT
DTSTART;TZID=America/New_York:20210413T123000
DTEND;TZID=America/New_York:20210413T133000
DTSTAMP:20260423T013718
CREATED:20210206T211321Z
LAST-MODIFIED:20210206T212646Z
UID:5654-1618317000-1618320600@dancingwheels.org
SUMMARY:Dancing Wheels’ "Dance for Every Body" Workshop 12:30 PM
DESCRIPTION:The Dancing Wheels Company is partnering with Wayne Center for the Arts to present “Dance for Every Body” Workshops. Encouraging anyone and everyone to try dancing\, Dancing Wheels’ series of workshop classes “Dance for Every Body” engages participants of all ages and abilities (family friendly\, inclusive). Each on-line interactive class starts with a warm-up sequence of dance exercises\, continues by learning a dance routine to perform\, and finishes with a dance party allowing each person to express themselves through movement. Instructors from The Dancing Wheels Company & School specialize in teaching physically integrated dance for people with and without disabilities. These classes will be led by Founding Artistic Director Mary Verdi-Fletcher and Director of Outreach Sara Lawrence-Sucato. \nWorkshops will be held online via Zoom at 12:30-1:30pm EST on (Thursday) March 4\, (Tuesday) March 16\, (Thursday) April 1\, and (Tuesday) April 13. \nThe cost for one workshop class is $15 per participant or sign up for all four (4) workshop classes for $50 per participant. \nBelow is a link to register for one (1) or all four (4) workshop classes. \nhttps://wayneartscenter.org/classes/dance/dance-for-every-body.html
URL:https://dancingwheels.org/event/dancing-wheels-dance-for-every-body-workshop-1230-pm-2/
LOCATION:Online
CATEGORIES:Workshop
END:VEVENT
BEGIN:VEVENT
DTSTART;TZID=America/New_York:20210405T190000
DTEND;TZID=America/New_York:20210405T203000
DTSTAMP:20260423T013718
CREATED:20210206T212056Z
LAST-MODIFIED:20210206T212655Z
UID:5658-1617649200-1617654600@dancingwheels.org
SUMMARY:Dance & Movement Workshop at Oglebay Institute 7 PM
DESCRIPTION:Instructed by the Dancing Wheels Company of Cleveland\, Ohio\, this workshop provides a unique approach to education and therapy. Through the use of movement and performance\, those with physical\, sensory\, or developmental disabilities can participate in the art of dance. This inclusive workshop also invites non-disabled peers to join this freeing\, educational and joyous experience. \nWorkshop meets 7-8:30pm Monday\, April 5 at Oglebay Institute’s School of Dance. Open to all ages\, with or without physical disabilities. \n$50 per person. Register online or call 304-242-7700.
URL:https://dancingwheels.org/event/dance-movement-workshop-at-oglebay-institute-7-pm/
LOCATION:Oglebay Institute\, 1330 National Road\, Wheeling\, WV\, 26003\, United States
CATEGORIES:Workshop
END:VEVENT
BEGIN:VEVENT
DTSTART;TZID=America/New_York:20210401T170000
DTEND;TZID=America/New_York:20210401T180000
DTSTAMP:20260423T013718
CREATED:20210313T225848Z
LAST-MODIFIED:20210313T225848Z
UID:5734-1617296400-1617300000@dancingwheels.org
SUMMARY:Dancing Wheels Company Adaptive Dance Workshop 5 PM
DESCRIPTION:Instructors from the Dancing Wheels Company to teach an Adaptive Dance Workshop for Bridgewater State UniversityInstructors from the Dancing Wheels Company to teach an Adaptive Dance Workshop for Bridgewater State University.
URL:https://dancingwheels.org/event/dancing-wheels-company-adaptive-dance-workshop-5-pm/
LOCATION:OH
CATEGORIES:Workshop
END:VEVENT
BEGIN:VEVENT
DTSTART;TZID=America/New_York:20210401T123000
DTEND;TZID=America/New_York:20210401T133000
DTSTAMP:20260423T013718
CREATED:20210206T210702Z
LAST-MODIFIED:20210206T212620Z
UID:5648-1617280200-1617283800@dancingwheels.org
SUMMARY:Dancing Wheels’ "Dance for Every Body" Workshop 12:30 PM
DESCRIPTION:The Dancing Wheels Company is partnering with Wayne Center for the Arts to present “Dance for Every Body” Workshops. Encouraging anyone and everyone to try dancing\, Dancing Wheels’ series of workshop classes “Dance for Every Body” engages participants of all ages and abilities (family friendly\, inclusive). Each on-line interactive class starts with a warm-up sequence of dance exercises\, continues by learning a dance routine to perform\, and finishes with a dance party allowing each person to express themselves through movement. Instructors from The Dancing Wheels Company & School specialize in teaching physically integrated dance for people with and without disabilities. These classes will be led by Founding Artistic Director Mary Verdi-Fletcher and Director of Outreach Sara Lawrence-Sucato. \nWorkshops will be held online via Zoom at 12:30-1:30pm EST on (Thursday) March 4\, (Tuesday) March 16\, (Thursday) April 1\, and (Tuesday) April 13. \nThe cost for one workshop class is $15 per participant or sign up for all four (4) workshop classes for $50 per participant. \nBelow is a link to register for one (1) or all four (4) workshop classes. \nhttps://wayneartscenter.org/classes/dance/dance-for-every-body.html
URL:https://dancingwheels.org/event/dancing-wheels-dance-for-every-body-workshop-1230-pm-est-2/
LOCATION:Online
CATEGORIES:Workshop
END:VEVENT
BEGIN:VEVENT
DTSTART;VALUE=DATE:20210330
DTEND;VALUE=DATE:20210331
DTSTAMP:20260423T013718
CREATED:20210515T195322Z
LAST-MODIFIED:20210515T195322Z
UID:6086-1617062400-1617148799@dancingwheels.org
SUMMARY:Belarus Community Connections Virtual Workshop
DESCRIPTION:Dancing Wheels’ President/Founding Artistic Director Mary Verdi-Fletcher will be presenting at Belarus Community Connection’s virtual workshop. This is a virtual program\, presented through the Cleveland Council on World Affairs and USAID\,will focus on the topic of “Empowering Young People with Disabilities.” The workshop participants include 30 individuals from Belarus who are young people with disabilities\, advocates for youth and the disabled community\, service providers\, and parents/guardians of those with disabilities.
URL:https://dancingwheels.org/event/belarus-community-connections-virtual-workshop/
LOCATION:OH
END:VEVENT
BEGIN:VEVENT
DTSTART;TZID=America/New_York:20210325T190000
DTEND;TZID=America/New_York:20210325T200000
DTSTAMP:20260423T013718
CREATED:20210206T211554Z
LAST-MODIFIED:20210206T212554Z
UID:5656-1616698800-1616702400@dancingwheels.org
SUMMARY:Keynote Presentation at College Club of Cleveland 7 PM
DESCRIPTION:Mary Verdi-Fletcher\, Founder/Artistic Director of the Dancing Wheels Company & School\, to give a keynote presentation for members of The College Club of Cleveland.
URL:https://dancingwheels.org/event/keynote-presentation-at-college-club-of-cleveland-7-pm/
LOCATION:OH
CATEGORIES:Guest Speaking
END:VEVENT
BEGIN:VEVENT
DTSTART;TZID=America/New_York:20210316T123000
DTEND;TZID=America/New_York:20210316T133000
DTSTAMP:20260423T013718
CREATED:20210206T210441Z
LAST-MODIFIED:20210206T212517Z
UID:5646-1615897800-1615901400@dancingwheels.org
SUMMARY:Dancing Wheels’ "Dance for Every Body" Workshop 12:30 PM
DESCRIPTION:The Dancing Wheels Company is partnering with Wayne Center for the Arts to present “Dance for Every Body” Workshops. Encouraging anyone and everyone to try dancing\, Dancing Wheels’ series of workshop classes “Dance for Every Body” engages participants of all ages and abilities (family friendly\, inclusive). Each on-line interactive class starts with a warm-up sequence of dance exercises\, continues by learning a dance routine to perform\, and finishes with a dance party allowing each person to express themselves through movement. Instructors from The Dancing Wheels Company & School specialize in teaching physically integrated dance for people with and without disabilities. These classes will be led by Founding Artistic Director Mary Verdi-Fletcher and Director of Outreach Sara Lawrence-Sucato. \nWorkshops will be held online via Zoom at 12:30-1:30pm EST on (Thursday) March 4\, (Tuesday) March 16\, (Thursday) April 1\, and (Tuesday) April 13. \nThe cost for one workshop class is $15 per participant or sign up for all four (4) workshop classes for $50 per participant. \nBelow is a link to register for one (1) or all four (4) workshop classes. \nhttps://wayneartscenter.org/classes/dance/dance-for-every-body.html
URL:https://dancingwheels.org/event/dancing-wheels-dance-for-every-body-workshop-1230-pm-est/
LOCATION:Online
CATEGORIES:Workshop
END:VEVENT
END:VCALENDAR