BEGIN:VCALENDAR
VERSION:2.0
PRODID:-//Dancing Wheels - ECPv6.15.20//NONSGML v1.0//EN
CALSCALE:GREGORIAN
METHOD:PUBLISH
X-WR-CALNAME:Dancing Wheels
X-ORIGINAL-URL:https://dancingwheels.org
X-WR-CALDESC:Events for Dancing Wheels
REFRESH-INTERVAL;VALUE=DURATION:PT1H
X-Robots-Tag:noindex
X-PUBLISHED-TTL:PT1H
BEGIN:VTIMEZONE
TZID:America/New_York
BEGIN:DAYLIGHT
TZOFFSETFROM:-0500
TZOFFSETTO:-0400
TZNAME:EDT
DTSTART:20170312T070000
END:DAYLIGHT
BEGIN:STANDARD
TZOFFSETFROM:-0400
TZOFFSETTO:-0500
TZNAME:EST
DTSTART:20171105T060000
END:STANDARD
BEGIN:DAYLIGHT
TZOFFSETFROM:-0500
TZOFFSETTO:-0400
TZNAME:EDT
DTSTART:20180311T070000
END:DAYLIGHT
BEGIN:STANDARD
TZOFFSETFROM:-0400
TZOFFSETTO:-0500
TZNAME:EST
DTSTART:20181104T060000
END:STANDARD
BEGIN:DAYLIGHT
TZOFFSETFROM:-0500
TZOFFSETTO:-0400
TZNAME:EDT
DTSTART:20190310T070000
END:DAYLIGHT
BEGIN:STANDARD
TZOFFSETFROM:-0400
TZOFFSETTO:-0500
TZNAME:EST
DTSTART:20191103T060000
END:STANDARD
BEGIN:DAYLIGHT
TZOFFSETFROM:-0500
TZOFFSETTO:-0400
TZNAME:EDT
DTSTART:20200308T070000
END:DAYLIGHT
BEGIN:STANDARD
TZOFFSETFROM:-0400
TZOFFSETTO:-0500
TZNAME:EST
DTSTART:20201101T060000
END:STANDARD
END:VTIMEZONE
BEGIN:VEVENT
DTSTART;TZID=America/New_York:20190505T093000
DTEND;TZID=America/New_York:20190505T101500
DTSTAMP:20260423T012707
CREATED:20181031T183430Z
LAST-MODIFIED:20190518T153723Z
UID:3233-1557048600-1557051300@dancingwheels.org
SUMMARY:Lecture Performance at Negative Space Gallery in Cleveland\, OH 9:30am
DESCRIPTION:May 5\, 2019 \nCleveland\, OH \nLecture performance at Negative Space Gallery 9:30am
URL:https://dancingwheels.org/event/lecture-performance-at-huy-elementary-school-in-columbus-oh-1245pm-2pm-3/
LOCATION:Negative Space Gallery\, 1541 E. 38th Street\, Cleveland\, OH\, 44114\, United States
CATEGORIES:Lecture Performance
END:VEVENT
BEGIN:VEVENT
DTSTART;TZID=America/New_York:20190428T100000
DTEND;TZID=America/New_York:20190428T111500
DTSTAMP:20260423T012707
CREATED:20190518T174944Z
LAST-MODIFIED:20190518T174944Z
UID:3274-1556445600-1556450100@dancingwheels.org
SUMMARY:Workshop at OhioDance Festival at OSU - Sullivant Hall 10-11:15am
DESCRIPTION:April 28\, 2019 \nColumbus\, OH \nWorkshop at OhioDance Festival at OSU – Sullivant Hall 10-11:15am \nPhysically Integrated Dance with Dancing Wheels: A Teacher’s Insight\nDance matters\, and it matters that a student of any varying physical ability is able to dance\, too! This class will provide an introduction to teachers who are interested in learning more about Dancing Wheels’ style of physically integrated dance and wheelchair translation to apply in their own classes for students with and without disabilities. \n\nSara Lawrence-Sucato hails from Columbus\, OH\, graduated from Mercyhurst University (Erie\, PA)\, and is in her thirteenth season as a member of The Dancing Wheels Company. Sara is also the company’s Tour Manager\, a company class instructor\, and teaches residencies\, workshops\, and masterclasses for The Dancing Wheels Company & School. She recently became the Director of Outreach & Community Engagement.
URL:https://dancingwheels.org/event/workshop-at-ohiodance-festival-at-osu-sullivant-hall-10-1115am/
LOCATION:OSU – Sullivant Hall\, 1813 North High Street\, Columbus\, OH\, 43210\, United States
CATEGORIES:Training,Workshop
END:VEVENT
BEGIN:VEVENT
DTSTART;TZID=America/New_York:20190427T190000
DTEND;TZID=America/New_York:20190427T210000
DTSTAMP:20260423T012707
CREATED:20190518T155538Z
LAST-MODIFIED:20190518T174553Z
UID:3271-1556391600-1556398800@dancingwheels.org
SUMMARY:Guest Appearance Performance at OhioDance Festival in Columbus\, OH at OSU - Sullivant Hall 7pm
DESCRIPTION:April 27\, 2019 \nColumbus\, OH \nGuest Appearance Performance at OhioDance Festival at OSU – Sullivant Hall 7pm
URL:https://dancingwheels.org/event/guest-appearance-performance-at-opening-ceremony-of-dance-usa-conference-at-history-center-8-830pm-2-2-2/
LOCATION:OSU – Sullivant Hall\, 1813 North High Street\, Columbus\, OH\, 43210\, United States
CATEGORIES:Guest Appearance,Performance
END:VEVENT
BEGIN:VEVENT
DTSTART;TZID=America/New_York:20190424T173000
DTEND;TZID=America/New_York:20190424T190000
DTSTAMP:20260423T012707
CREATED:20190518T155538Z
LAST-MODIFIED:20190518T174135Z
UID:3268-1556127000-1556132400@dancingwheels.org
SUMMARY:Guest Appearance Performance at Cleveland Clinic 5:30pm
DESCRIPTION:April 24\, 2019 \nCleveland\, OH \nGuest Appearance Performance at Cleveland Clinic for “Ten Years and Growing: Arts & Medicine Institute” event 5:30-7pm
URL:https://dancingwheels.org/event/guest-appearance-performance-at-opening-ceremony-of-dance-usa-conference-at-history-center-8-830pm-2-2/
LOCATION:Cleveland Clinic – Sheila and Eric Samson Pavilion at Health Education Campus\, 9501 Euclid Ave\, Cleveland\, OH\, 44106\, United States
CATEGORIES:Guest Appearance,Performance
END:VEVENT
BEGIN:VEVENT
DTSTART;TZID=America/New_York:20190412T134500
DTEND;TZID=America/New_York:20190412T143000
DTSTAMP:20260423T012707
CREATED:20181031T183430Z
LAST-MODIFIED:20190518T152451Z
UID:3227-1555076700-1555079400@dancingwheels.org
SUMMARY:Lecture Performance at Stevenson Elementary School in Columbus\, OH 1:45pm
DESCRIPTION:April 12\, 2019 \nColumbus\, OH \nLecture performance at Stevenson Elementary School 1:45pm \nPresented by Ohio Alliance for Arts Education (OAAE)
URL:https://dancingwheels.org/event/lecture-performance-at-huy-elementary-school-in-columbus-oh-1245pm-2pm-2/
LOCATION:Stevenson Elementary School\, 1065 Oxley Road\, Columbus\, OH\, 43212\, United States
CATEGORIES:Lecture Performance
END:VEVENT
BEGIN:VEVENT
DTSTART;VALUE=DATE:20190402
DTEND;VALUE=DATE:20190403
DTSTAMP:20260423T012707
CREATED:20181031T181406Z
LAST-MODIFIED:20181031T182709Z
UID:2712-1554163200-1554249599@dancingwheels.org
SUMMARY:Public Mainstage Performance in Wheeling\, WV at John Marshall High School – Auditorium
DESCRIPTION:April 1-2\, 2019 \nWheeling\, WV \nResidency for Oglebay Institute and community including a workshop\, lecture performance\, and mainstage public performance \n4/1 – Workshop at Oglebay Institute’s School of Dance 7pm \n4/2 – Private Lecture Performance for area schools at John Marshall High School – Auditorium \n4/2 – Public mainstage performance at John Marshall High School – Auditorium
URL:https://dancingwheels.org/event/workshop-at-oglebay-institutes-school-of-dance-7pm-3/
LOCATION:John Marshall High School – Auditorium\, 1300 Wheeling Ave\, Wheeling\, WV\, 26038\, United States
CATEGORIES:Performance,Residency
END:VEVENT
BEGIN:VEVENT
DTSTART;VALUE=DATE:20190402
DTEND;VALUE=DATE:20190403
DTSTAMP:20260423T012707
CREATED:20181031T181406Z
LAST-MODIFIED:20181031T183000Z
UID:2714-1554163200-1554249599@dancingwheels.org
SUMMARY:Private Lecture Performance for area schools in Wheeling\, WV at John Marshall High School – Auditorium
DESCRIPTION:April 1-2\, 2019 \nWheeling\, WV \nResidency for Oglebay Institute and community including a workshop\, lecture performance\, and mainstage public performance \n4/1 – Workshop at Oglebay Institute’s School of Dance 7pm \n4/2 – Private Lecture Performance for area schools at John Marshall High School – Auditorium \n4/2 – Public mainstage performance at John Marshall High School – Auditorium
URL:https://dancingwheels.org/event/workshop-at-oglebay-institutes-school-of-dance-7pm/
LOCATION:John Marshall High School – Auditorium\, 1300 Wheeling Ave\, Wheeling\, WV\, 26038\, United States
CATEGORIES:Lecture Performance,Residency
END:VEVENT
BEGIN:VEVENT
DTSTART;TZID=America/New_York:20190401T190000
DTEND;TZID=America/New_York:20190401T203000
DTSTAMP:20260423T012707
CREATED:20181031T181406Z
LAST-MODIFIED:20181031T182231Z
UID:2710-1554145200-1554150600@dancingwheels.org
SUMMARY:Workshop at Oglebay Institute’s School of Dance in Wheeling\, WV 7pm
DESCRIPTION:April 1-2\, 2019 \nWheeling\, WV \nResidency for Oglebay Institute and community including a workshop\, lecture performance\, and mainstage public performance \n4/1 – Workshop at Oglebay Institute’s School of Dance 7pm \n4/2 – Private Lecture Performance for area schools at John Marshall High School – Auditorium \n4/2 – Public mainstage performance at John Marshall High School – Auditorium
URL:https://dancingwheels.org/event/workshop-at-oglebay-institutes-school-of-dance-7pm-2/
LOCATION:Oglebay Institute\, 1330 National Road\, Wheeling\, WV\, 26003\, United States
CATEGORIES:Residency,Workshop
END:VEVENT
BEGIN:VEVENT
DTSTART;TZID=America/New_York:20190330T110000
DTEND;TZID=America/New_York:20190330T130000
DTSTAMP:20260423T012707
CREATED:20190518T175653Z
LAST-MODIFIED:20190518T175653Z
UID:3278-1553943600-1553950800@dancingwheels.org
SUMMARY:Dancing Wheels Company Audition at Ohio State University
DESCRIPTION:March 30\, 2019 \nColumbus\, OH \nOpen audition for The Dancing Wheels Company at Ohio State University 11am-1pm
URL:https://dancingwheels.org/event/dancing-wheels-company-audition-at-ohio-state-university/
LOCATION:OH
CATEGORIES:Audition
END:VEVENT
BEGIN:VEVENT
DTSTART;TZID=America/New_York:20190329T113000
DTEND;TZID=America/New_York:20190329T130000
DTSTAMP:20260423T012707
CREATED:20190518T155538Z
LAST-MODIFIED:20190518T180112Z
UID:3280-1553859000-1553864400@dancingwheels.org
SUMMARY:Guest Appearance Performance for Luncheon at Lincoln Theatre in Columbus\, OH 11:30am
DESCRIPTION:March 29\, 2019 \nColumbus\, OH \nGuest Appearance Performance for Luncheon at Lincoln Theatre in Columbus\, OH 11:30am-1pm
URL:https://dancingwheels.org/event/guest-appearance-performance-at-opening-ceremony-of-dance-usa-conference-at-history-center-8-830pm-2-3/
LOCATION:Lincoln Theatre\, 769 E Long St\, Columbus\, OH\, 43203\, United States
CATEGORIES:Guest Appearance,Performance
END:VEVENT
BEGIN:VEVENT
DTSTART;TZID=America/New_York:20190315T123000
DTEND;TZID=America/New_York:20190315T140000
DTSTAMP:20260423T012707
CREATED:20190518T175424Z
LAST-MODIFIED:20190518T175424Z
UID:3276-1552653000-1552658400@dancingwheels.org
SUMMARY:Dancing Wheels Company Audition at University of Akron
DESCRIPTION:March 15\, 2019 \nAkron\, OH \nOpen audition for The Dancing Wheels Company at University of Akron 12:30-2pm
URL:https://dancingwheels.org/event/dancing-wheels-company-audition-at-university-of-akron/
LOCATION:OH
CATEGORIES:Audition
END:VEVENT
BEGIN:VEVENT
DTSTART;VALUE=DATE:20190311
DTEND;VALUE=DATE:20190315
DTSTAMP:20260423T012707
CREATED:20181031T123252Z
LAST-MODIFIED:20181031T123252Z
UID:2707-1552262400-1552607999@dancingwheels.org
SUMMARY:“Helen Keller” Residency at Old Trail School with Culminating Lecture Performance March 14th at 1:30pm
DESCRIPTION:March 11-14\, 2019 \nBath\, OH \n“Helen Keller” Residency at Old Trail School with culminating lecture performance 3/14 at 1:30pm
URL:https://dancingwheels.org/event/helen-keller-residency-at-old-trail-school-with-culminating-lecture-performance-march-14th-at-130pm/
LOCATION:Old Trail School\, 2315 Ira Rd\, Akron\, OH\, 44333\, United States
CATEGORIES:Lecture Performance,Residency
END:VEVENT
BEGIN:VEVENT
DTSTART;TZID=America/New_York:20190228T143000
DTEND;TZID=America/New_York:20190228T153000
DTSTAMP:20260423T012707
CREATED:20190518T161649Z
LAST-MODIFIED:20190518T180703Z
UID:3282-1551364200-1551367800@dancingwheels.org
SUMMARY:Lecture Performance at Chippewa Elementary School in Brecksville\, OH 2:30pm
DESCRIPTION:February 28\, 2019 \nBrecksville\, OH \nLecture Performance at Chippewa Elementary School 2:30pm
URL:https://dancingwheels.org/event/lecture-performance-at-halloran-park-gazebo-for-westown-cdc-2pm-2/
LOCATION:Chippewa Elementary School\, 8611 Weise Rd.\,\, Brecksville\, OH\, 44141\, United States
CATEGORIES:Lecture Performance,Performance
END:VEVENT
BEGIN:VEVENT
DTSTART;TZID=America/New_York:20190223T180000
DTEND;TZID=America/New_York:20190223T220000
DTSTAMP:20260423T012707
CREATED:20181031T122929Z
LAST-MODIFIED:20181031T122929Z
UID:2704-1550944800-1550959200@dancingwheels.org
SUMMARY:The Dancing Wheels Company & School’s annual "Night at the Races" Benefit
DESCRIPTION:February 23\, 2019 \nCleveland\, OH \nThe Dancing Wheels Company & School’s annual “Night at the Races” Benefit \n 
URL:https://dancingwheels.org/event/the-dancing-wheels-company-schools-annual-night-at-the-races-benefit/
LOCATION:Villa Angela-St Joseph High School\, 18491 Lakeshore Blvd\, Cleveland\, OH\, 44119\, United States
CATEGORIES:Benefit,Fundraising
END:VEVENT
BEGIN:VEVENT
DTSTART;TZID=America/New_York:20190122T193000
DTEND;TZID=America/New_York:20190122T203000
DTSTAMP:20260423T012707
CREATED:20181031T121124Z
LAST-MODIFIED:20190121T224701Z
UID:2924-1548185400-1548189000@dancingwheels.org
SUMMARY:Lecture Performance at Judson Manor in Cleveland\, OH 7:30pm
DESCRIPTION:January 22\, 2019 \nCleveland\, OH \nLecture performance at Judson Manor 7:30-8:30pm
URL:https://dancingwheels.org/event/lecture-performance-at-broadmoor-school-in-mentor-oh-1230pm-2-2-2/
LOCATION:Judson Manor\, 1890 E 107th St.\,\, Cleveland\, OH\, 44106\, United States
CATEGORIES:Lecture Performance
END:VEVENT
BEGIN:VEVENT
DTSTART;TZID=America/New_York:20190112T110000
DTEND;TZID=America/New_York:20190112T130000
DTSTAMP:20260423T012707
CREATED:20171229T193106Z
LAST-MODIFIED:20181210T001345Z
UID:2831-1547290800-1547298000@dancingwheels.org
SUMMARY:Open Audition for The Dancing Wheels Company
DESCRIPTION:Audition\nCompany Name: The Dancing Wheels Company \nAudition Date: Saturday\, January 12\, 2019 \nAudition Time: 11:00 a.m. \nAudition Location: Dancing Wheels Company Studio \nLocation Street Address: 3030 Euclid Ave.\, 1st Floor \nLocation City\, State Zip: Cleveland\, Ohio 44115 \nContact information:  www.dancingwheels.org\, 216-432-0306 \nThe Dancing Wheels Company\, America’s first\, professional\, physically integrated dance company\, is currently seeking to hire qualified male and female dancers for the 2019/20 season. There is an immediate opening for a male dancer and a wheelchair dancer*. The Dancing Wheels Company is a national touring company that works with highly acclaimed choreographers each year. Most recent works include full-length pieces from Donald McKayle\, Dianne McIntyre\, Nai-Ni Chen\, Christopher Fleming\, Michael Uthoff\, Peter Kalivis\, David Rousseve and David Dorfman. \nThe preferred candidates should be proficient in ballet\, modern and partnering. Experience and training required\, must be able to work full‐time and tour throughout the nation. Pay scale is commensurate with experience; paid holidays and vacation time are included. \nTo audition\, interested candidates should send a letter of interest\, resumé and head shot to Mary Verdi-Fletcher\, President/Founding Artistic Director at VFletcher1@aol.com. \nPlease call (216) 432-0306 to register in advance for the audition. \n*For wheelchair dancers\, candidate must have excellent wheelchair mobility and prior dance experience or willingness to train. Must be able to work full‐time and tour throughout the nation.
URL:https://dancingwheels.org/event/open-audition-for-the-dancing-wheels-company-2-2/
LOCATION:The Dancing Wheels Company Studio\, 3030 Euclid Avenue\, Cleveland\, OH\, 44115\, United States
CATEGORIES:Audition
ATTACH;FMTTYPE=image/png:https://dancingwheels.org/wp-content/uploads/2017/12/Audition-for-The-Dancing-Wheels-Company-1.12.19.png
END:VEVENT
BEGIN:VEVENT
DTSTART;TZID=America/New_York:20190111T111000
DTEND;TZID=America/New_York:20190111T114000
DTSTAMP:20260423T012707
CREATED:20181031T121124Z
LAST-MODIFIED:20190121T224820Z
UID:2920-1547205000-1547206800@dancingwheels.org
SUMMARY:Lecture Performance at Wayne Center for the Arts in Wooster\, OH for Tri-County ESC 11:10am
DESCRIPTION:January 11\, 2019 \nWooster\, OH \nLecture performance at Wayne Center for the Arts for Tri-County ESC 11:10-11:40am
URL:https://dancingwheels.org/event/lecture-performance-at-broadmoor-school-in-mentor-oh-1230pm-2-2/
LOCATION:Wayne Center for the Arts\, 237 S Walnut St\,\, Wooster\, OH\, 44691\, United States
CATEGORIES:Lecture Performance
END:VEVENT
BEGIN:VEVENT
DTSTART;VALUE=DATE:20190104
DTEND;VALUE=DATE:20190109
DTSTAMP:20260423T012707
CREATED:20181031T122456Z
LAST-MODIFIED:20181031T122456Z
UID:2702-1546560000-1546991999@dancingwheels.org
SUMMARY:KMP Representing DWC at APAP Conference - New York Hilton Midtown and Sheraton New York Times Square
DESCRIPTION:January 4-8\, 2018 \nNew York\, NY \nKMP Artist Representatives at APAP Conference – New York Hilton Midtown and Sheraton New York Times Square – Exhibitor Booth #2508 / #2510​
URL:https://dancingwheels.org/event/kmp-representing-dwc-at-apap-conference-new-york-hilton-midtown-and-sheraton-new-york-times-square/
LOCATION:OH
CATEGORIES:Conference
END:VEVENT
BEGIN:VEVENT
DTSTART;TZID=America/New_York:20181208T133000
DTEND;TZID=America/New_York:20181208T150000
DTSTAMP:20260423T012707
CREATED:20181031T121950Z
LAST-MODIFIED:20181031T121950Z
UID:2699-1544275800-1544281200@dancingwheels.org
SUMMARY:Workshop Class at VSA Intersections Conference at Columbus College of Art & Design 1:30-3pm
DESCRIPTION:December 8\, 2018 \nColumbus\, OH \nWorkshop class “Dance Movement in Time” at VSA Intersections Conference at Columbus College of Art & Design 1:30-3pm
URL:https://dancingwheels.org/event/workshop-class-at-vsa-intersections-conference-at-columbus-college-of-art-design-130-3pm/
LOCATION:Columbus College of Art & Design\, 60 Cleveland Ave\, Columbus\, OH\, 43215\, United States
CATEGORIES:Workshop
END:VEVENT
BEGIN:VEVENT
DTSTART;TZID=America/New_York:20181206T173000
DTEND;TZID=America/New_York:20181206T183000
DTSTAMP:20260423T012707
CREATED:20181031T121508Z
LAST-MODIFIED:20181031T121508Z
UID:2696-1544117400-1544121000@dancingwheels.org
SUMMARY:Guest Appearance Performance for 2018 Holiday Festival and Tree Lighting at Ohio Statehouse 5:30pm
DESCRIPTION:December 6\, 2018 \nColumbus\, OH \nGuest appearance performance for 2018 Holiday Festival and Tree Lighting at Ohio Statehouse 5:30pm
URL:https://dancingwheels.org/event/guest-appearance-performance-for-2018-holiday-festival-and-tree-lighting-at-ohio-statehouse-530pm/
LOCATION:Ohio Statehouse\, 1 Capital Square\, Columbus\, OH\, 43215\, United States
CATEGORIES:Guest Appearance
END:VEVENT
BEGIN:VEVENT
DTSTART;TZID=America/New_York:20181114T123000
DTEND;TZID=America/New_York:20181114T131500
DTSTAMP:20260423T012707
CREATED:20181031T121124Z
LAST-MODIFIED:20181031T121124Z
UID:2693-1542198600-1542201300@dancingwheels.org
SUMMARY:Lecture Performance at Broadmoor School in Mentor\, OH 12:30pm
DESCRIPTION:November 14\, 2018 \nMentor\, OH \nLecture performance at Lake County Board of DD/Deepwood – Broadmoor School 12:30pm
URL:https://dancingwheels.org/event/lecture-performance-at-broadmoor-school-in-mentor-oh-1230pm-2/
LOCATION:Broadmoor School\, 8090 Broadmoor Rd\, Mentor\, OH\, 44060\, United States
CATEGORIES:Lecture Performance
END:VEVENT
BEGIN:VEVENT
DTSTART;TZID=America/New_York:20181110T140000
DTEND;TZID=America/New_York:20181110T170000
DTSTAMP:20260423T012707
CREATED:20180904T220958Z
LAST-MODIFIED:20230120T065138Z
UID:2623-1541858400-1541869200@dancingwheels.org
SUMMARY:The Dancing Wheels Company & School presents "Babes In Toyland" - 2pm Family Matinee & "Toys & Treats" Party
DESCRIPTION:Join us for Babes in Toyland!\n\nThe Dancing Wheels Company & School present their beloved production of Babes in Toyland!  This re-imagined holiday classic is full of love\, laughter\, and hijinks.  It is sure to wow audiences of all ages! \nStudent Matinees- $5\nFriday November 9\, 2018 at 10:00am and 1:00pm\nSchool\, senior\, and community groups are welcome! \nFamily Matinee- $25 for adults\, $15 for children 12 and under\nSaturday\, November 10\, 2018 at 2:00pm\nYour ticket includes a “Toys & Treats” party following the performance! \nGroup Discount\nGroups of 10 or more will receive a special discount; Call 216.432.0306 for details! \nAll performances held at the Breen Center for the Performing Arts at 2008 West 30th Street\, Cleveland\, OH 44113
URL:https://dancingwheels.org/event/the-dancing-wheels-company-school-presents-babes-in-toyland-2pm-family-matinee-toys-treats-party/
LOCATION:Breen Center for the Performing Arts\, 2008 West 30th Street\, Cleveland\, OH\, OH\, 44113\, United States
CATEGORIES:Performance
ATTACH;FMTTYPE=image/jpeg:https://dancingwheels.org/wp-content/uploads/2018/09/BIT-2018-Poster.jpg
END:VEVENT
BEGIN:VEVENT
DTSTART;TZID=America/New_York:20181109T130000
DTEND;TZID=America/New_York:20181109T140000
DTSTAMP:20260423T012707
CREATED:20180904T220623Z
LAST-MODIFIED:20230120T065250Z
UID:2621-1541768400-1541772000@dancingwheels.org
SUMMARY:The Dancing Wheels Company & School presents "Babes In Toyland" - 1pm matinee show
DESCRIPTION:Join us for Babes in Toyland!\n\nThe Dancing Wheels Company & School present their beloved production of Babes in Toyland!  This re-imagined holiday classic is full of love\, laughter\, and hijinks.  It is sure to wow audiences of all ages! \nStudent Matinees- $5\nFriday November 9\, 2018 at 10:00am and 1:00pm\nSchool\, senior\, and community groups are welcome! \nFamily Matinee- $25 for adults\, $15 for children 12 and under\nSaturday\, November 10\, 2018 at 2:00pm\nYour ticket includes a “Toys & Treats” party following the performance! \nGroup Discount\nGroups of 10 or more will receive a special discount; Call 216.432.0306 for details! \nAll performances held at the Breen Center for the Performing Arts at 2008 West 30th Street\, Cleveland\, OH 44113
URL:https://dancingwheels.org/event/the-dancing-wheels-company-school-presents-babes-in-toyland-1pm-matinee-show/
LOCATION:Breen Center for the Performing Arts\, 2008 West 30th Street\, Cleveland\, OH\, OH\, 44113\, United States
CATEGORIES:Performance
ATTACH;FMTTYPE=image/jpeg:https://dancingwheels.org/wp-content/uploads/2018/09/BIT-2018-Poster.jpg
END:VEVENT
BEGIN:VEVENT
DTSTART;TZID=America/New_York:20181109T100000
DTEND;TZID=America/New_York:20181109T110000
DTSTAMP:20260423T012707
CREATED:20180904T220051Z
LAST-MODIFIED:20230120T065408Z
UID:2614-1541757600-1541761200@dancingwheels.org
SUMMARY:The Dancing Wheels Company & School presents "Babes In Toyland" - 10am matinee show
DESCRIPTION:Join us for Babes in Toyland!\n\nThe Dancing Wheels Company & School present their beloved production of Babes in Toyland!  This re-imagined holiday classic is full of love\, laughter\, and hijinks.  It is sure to wow audiences of all ages! \nStudent Matinees- $5\nFriday November 9\, 2018 at 10:00am and 1:00pm\nSchool\, senior\, and community groups are welcome! \nFamily Matinee- $25 for adults\, $15 for children 12 and under\nSaturday\, November 10\, 2018 at 2:00pm\nYour ticket includes a “Toys & Treats” party following the performance! \nGroup Discount\nGroups of 10 or more will receive a special discount; Call 216.432.0306 for details! \nAll performances held at the Breen Center for the Performing Arts at 2008 West 30th Street\, Cleveland\, OH 44113
URL:https://dancingwheels.org/event/the-dancing-wheels-company-school-presents-babes-in-toyland-10am-matinee-show/
LOCATION:Breen Center for the Performing Arts\, 2008 West 30th Street\, Cleveland\, OH\, OH\, 44113\, United States
CATEGORIES:Performance
ATTACH;FMTTYPE=image/jpeg:https://dancingwheels.org/wp-content/uploads/2018/09/BIT-2018-Poster.jpg
END:VEVENT
BEGIN:VEVENT
DTSTART;TZID=America/New_York:20181010T120000
DTEND;TZID=America/New_York:20181010T130000
DTSTAMP:20260423T012707
CREATED:20180904T214742Z
LAST-MODIFIED:20180904T214742Z
UID:2608-1539172800-1539176400@dancingwheels.org
SUMMARY:The Dancing Wheels Company "BrownBag" Noon Lunchtime Performance at Trinity Cathedral
DESCRIPTION:Performance for Trinity Cathedral’s “Brownbag Lunch Series” 12:10pm. \nFreewill offering\, open to the public\, bring a lunch or purchase one for $5
URL:https://dancingwheels.org/event/the-dancing-wheels-company-brownbag-noon-lunchtime-performance-at-trinity-cathedral/
LOCATION:Trinity Cathedral\, 2230 Euclid Ave\, Cleveland\, OH\, 44115\, United States
CATEGORIES:Performance
END:VEVENT
BEGIN:VEVENT
DTSTART;TZID=America/New_York:20180929T100000
DTEND;TZID=America/New_York:20180929T140000
DTSTAMP:20260423T012707
CREATED:20180904T213711Z
LAST-MODIFIED:20180904T213711Z
UID:2602-1538215200-1538229600@dancingwheels.org
SUMMARY:Dancing Wheels Company & School at City of Pepper Pike's Health Fair
DESCRIPTION:Representatives of The Dancing Wheels Company & School present at City of Pepper Pike’s “Health Fair” Saturday\, September 29\, 2018 10am-2pm.
URL:https://dancingwheels.org/event/dancing-wheels-company-school-at-city-of-pepper-pikes-health-fair/
LOCATION:Pepper Pike Park\, 28000 Shaker Blvd\, Pepper Pike\, OH\, 44124\, United States
CATEGORIES:Community Engagement Opportunity
END:VEVENT
BEGIN:VEVENT
DTSTART;TZID=America/New_York:20180928T160000
DTEND;TZID=America/New_York:20180928T190000
DTSTAMP:20260423T012707
CREATED:20180904T212906Z
LAST-MODIFIED:20230120T063114Z
UID:2597-1538150400-1538161200@dancingwheels.org
SUMMARY:Dancing Wheels Company & School at ACT Conference "Friday Finale" in Columbus\, OH
DESCRIPTION:Friday Finale\nJoin us for a culminating celebration!\nThe Friday Finale is geared towards Families looking to explore new art forms and make community connections. Vendors will have hands on experiences\, resources\, and hand outs with simple strategies for accessing the arts at home. \nFriday\, September 28 from 4:00pm – 7:00pm at the Lincoln Theatre
URL:https://dancingwheels.org/event/dancing-wheels-company-school-at-act-conference-friday-finale-in-columbus-oh/
LOCATION:Lincoln Theatre\, 769 E Long St\, Columbus\, OH\, 43203\, United States
CATEGORIES:Community Engagement Opportunity
END:VEVENT
BEGIN:VEVENT
DTSTART;TZID=America/New_York:20180928T131500
DTEND;TZID=America/New_York:20180928T143000
DTSTAMP:20260423T012707
CREATED:20180904T212121Z
LAST-MODIFIED:20180904T212516Z
UID:2591-1538140500-1538145000@dancingwheels.org
SUMMARY:Workshop Class at ACT Conference in Columbus\, OH
DESCRIPTION:Members of The Dancing Wheels Company will conduct a workshop class for the ACT Conference at the Lincoln Theatre – Ballroom 1:15-2:30pm.
URL:https://dancingwheels.org/event/workshop-class-at-act-conference-in-columbus-oh/
LOCATION:Lincoln Theatre\, 769 E Long St\, Columbus\, OH\, 43203\, United States
CATEGORIES:Workshop
END:VEVENT
BEGIN:VEVENT
DTSTART;TZID=America/New_York:20180909T150000
DTEND;TZID=America/New_York:20180909T170000
DTSTAMP:20260423T012707
CREATED:20180904T211454Z
LAST-MODIFIED:20180904T211454Z
UID:2585-1536505200-1536512400@dancingwheels.org
SUMMARY:The Dancing Wheels Company in Counter Balance Physically Integrated Dance Festival in Chicago\, IL
DESCRIPTION:Members of The Dancing Wheels Company to dance in “Counter Balance” Physically Integrated Dance Festival at Center on Halsted – Hoover-Leppen Theatre 3pm. Chance to meet & greet the dancers at a reception following performance.
URL:https://dancingwheels.org/event/the-dancing-wheels-company-in-counter-balance-physically-integrated-dance-festival-in-chicago-il/
LOCATION:Center on Halsted\, 3656 N Halsted St\, Chicago\, IL\, 60613\, United States
CATEGORIES:Guest Appearance,Performance
ATTACH;FMTTYPE=image/jpeg:https://dancingwheels.org/wp-content/uploads/2018/09/Counter-Balance-2018.jpg
END:VEVENT
BEGIN:VEVENT
DTSTART;TZID=America/New_York:20180908T110000
DTEND;TZID=America/New_York:20180908T121500
DTSTAMP:20260423T012707
CREATED:20180904T210439Z
LAST-MODIFIED:20180904T210817Z
UID:2580-1536404400-1536408900@dancingwheels.org
SUMMARY:Workshop Class at Counter Balance Dance Festival in Chicago
DESCRIPTION:Members of The Dancing Wheels Company will conduct a workshop class for the Counter Balance Dance Festival at the Center on Halsted – Lobby of Hoover-Leppen Theatre 11am-12:15pm.
URL:https://dancingwheels.org/event/workshop-class-at-counter-balance-dance-festival-chicago/
LOCATION:Center on Halsted\, 3656 N Halsted St\, Chicago\, IL\, 60613\, United States
CATEGORIES:Workshop
ATTACH;FMTTYPE=image/jpeg:https://dancingwheels.org/wp-content/uploads/2018/09/Counter-Balance-2018.jpg
END:VEVENT
END:VCALENDAR