BEGIN:VCALENDAR
VERSION:2.0
PRODID:-//Dancing Wheels - ECPv6.15.20//NONSGML v1.0//EN
CALSCALE:GREGORIAN
METHOD:PUBLISH
X-WR-CALNAME:Dancing Wheels
X-ORIGINAL-URL:https://dancingwheels.org
X-WR-CALDESC:Events for Dancing Wheels
REFRESH-INTERVAL;VALUE=DURATION:PT1H
X-Robots-Tag:noindex
X-PUBLISHED-TTL:PT1H
BEGIN:VTIMEZONE
TZID:America/New_York
BEGIN:DAYLIGHT
TZOFFSETFROM:-0500
TZOFFSETTO:-0400
TZNAME:EDT
DTSTART:20180311T070000
END:DAYLIGHT
BEGIN:STANDARD
TZOFFSETFROM:-0400
TZOFFSETTO:-0500
TZNAME:EST
DTSTART:20181104T060000
END:STANDARD
BEGIN:DAYLIGHT
TZOFFSETFROM:-0500
TZOFFSETTO:-0400
TZNAME:EDT
DTSTART:20190310T070000
END:DAYLIGHT
BEGIN:STANDARD
TZOFFSETFROM:-0400
TZOFFSETTO:-0500
TZNAME:EST
DTSTART:20191103T060000
END:STANDARD
BEGIN:DAYLIGHT
TZOFFSETFROM:-0500
TZOFFSETTO:-0400
TZNAME:EDT
DTSTART:20200308T070000
END:DAYLIGHT
BEGIN:STANDARD
TZOFFSETFROM:-0400
TZOFFSETTO:-0500
TZNAME:EST
DTSTART:20201101T060000
END:STANDARD
END:VTIMEZONE
BEGIN:VTIMEZONE
TZID:UTC
BEGIN:STANDARD
TZOFFSETFROM:+0000
TZOFFSETTO:+0000
TZNAME:UTC
DTSTART:20180101T000000
END:STANDARD
END:VTIMEZONE
BEGIN:VEVENT
DTSTART;TZID=America/New_York:20191009T120000
DTEND;TZID=America/New_York:20191009T133000
DTSTAMP:20260422T194705
CREATED:20190916T120743Z
LAST-MODIFIED:20190916T120743Z
UID:3506-1570622400-1570627800@dancingwheels.org
SUMMARY:Guest Appearance Performance at Trinity Cathedral BrownBag Concert Series
DESCRIPTION:October 9\, 2019 \nCleveland\, OH \nGuest appearance performance at Trinity Cathedral BrownBag Concert Series in Cleveland\, OH at 12 PM.
URL:https://dancingwheels.org/event/guest-appearance-performance-at-trinity-cathedral-brownbag-concert-series/
LOCATION:Trinity Cathedral\, 2230 Euclid Ave\, Cleveland\, OH\, 44115\, United States
CATEGORIES:Guest Appearance,Performance
END:VEVENT
BEGIN:VEVENT
DTSTART;TZID=America/New_York:20190928T133000
DTEND;TZID=America/New_York:20190928T143000
DTSTAMP:20260422T194705
CREATED:20190518T161106Z
LAST-MODIFIED:20190826T123121Z
UID:3406-1569677400-1569681000@dancingwheels.org
SUMMARY:Workshop at moCa FREE & Open to the Public 1:30-2:30pm
DESCRIPTION:September 28\, 2019 \nCleveland\, OH \n1:30-2:30pm \n“Dance for Every Body” \nEncouraging anybody and everyone to try dancing\, and with instructors from The Dancing Wheels Company & School who specialize in teaching physically integrated dance for people with and without disabilities\, participants will have hands-on experience in translation and adaptive approaches to dance.  This workshop is for any experience level and is limited to ages 6 & up\, however it is advised that children under the age of 10 are accompanied by an adult.  The teaching workshop will be led by Founding Artistic Director Mary Verdi-Fletcher and Company member and experienced teacher Sara Lawrence-Sucato. \nAll events at moCa this day are free and open to the public.
URL:https://dancingwheels.org/event/workshops-for-camp-sue-osborne-at-lake-county-ymca-outdoor-family-center-in-perry-oh-1230-220pm-3/
LOCATION:moCa Cleveland\, 11400 Euclid Ave\, Cleveland\, OH\, 44106\, United States
CATEGORIES:Workshop
ATTACH;FMTTYPE=image/jpeg:https://dancingwheels.org/wp-content/uploads/2019/05/Mary-teaching-SDI-2019-scaled.jpg
END:VEVENT
BEGIN:VEVENT
DTSTART;TZID=America/New_York:20190927T190000
DTEND;TZID=America/New_York:20190927T220000
DTSTAMP:20260422T194705
CREATED:20190916T121857Z
LAST-MODIFIED:20190916T122300Z
UID:3508-1569610800-1569621600@dancingwheels.org
SUMMARY:Guest Appearance Performance for 2019 MedWish Gala in Cleveland\, OH 7 PM - 10 PM
DESCRIPTION:September 27\, 2019 \nCleveland\, OH \nGuest Appearance Performance for 2019 MedWish Gala presented by MedWish International in Cleveland\, OH at 7 PM.
URL:https://dancingwheels.org/event/guest-appearance-performance-for-2019-medwish-gala/
LOCATION:The Madison\, 4601 Payne Ave.\, Cleveland\, OH\, 44103\, United States
CATEGORIES:Guest Appearance,Performance
END:VEVENT
BEGIN:VEVENT
DTSTART;TZID=America/New_York:20190927T113000
DTEND;TZID=America/New_York:20190927T120000
DTSTAMP:20260422T194705
CREATED:20190826T192753Z
LAST-MODIFIED:20190916T122046Z
UID:3408-1569583800-1569585600@dancingwheels.org
SUMMARY:Guest Appearance Performance at MetroHealth Spinal Cord Injury Forum in Cleveland\, OH 11:30 AM
DESCRIPTION:September 27\, 2019 \nCleveland\, OH \nGuest appearance performance at MetroHealth Spinal Cord Injury Forum – MetroHealth Outpatient Plaza Atrium 11:30 AM
URL:https://dancingwheels.org/event/guest-appearance-performance-at-metrohealth-spinal-cord-injury-forum-in-cleveland-oh-1130am/
LOCATION:MetroHealth Outpatient Plaza Atrium\, 2500 MetroHealth Drive\, Cleveland\, OH\, 44109\, United States
CATEGORIES:Guest Appearance,Performance
END:VEVENT
BEGIN:VEVENT
DTSTART;TZID=America/New_York:20190920T190000
DTEND;TZID=America/New_York:20190920T200000
DTSTAMP:20260422T194705
CREATED:20190826T122410Z
LAST-MODIFIED:20190826T122410Z
UID:3405-1569006000-1569009600@dancingwheels.org
SUMMARY:“Connections & Intersections” - Lincoln Theatre Association presents The Dancing Wheels Company at Lincoln Theater in Columbus\, OH 7-8 PM
DESCRIPTION:September 20\, 2019 \nColumbus\, OH \nLincoln Theatre Association presents The Dancing Wheels Company in “Connections & Intersections” at Lincoln Theatre in Columbus\, OH 7-8PM \nTickets are $25 and can be purchased in-person at the CAPA Ticket Center (39 E. State St.)\, online atwww.LincolnTheatreColumbus.com\, or by phone at (614) 469-0939 or (800) 982-2787.
URL:https://dancingwheels.org/event/connections-intersections-lincoln-theatre-association-presents-the-dancing-wheels-company-at-lincoln-theater-in-columbus-oh-7-8-pm/
LOCATION:Lincoln Theatre\, 769 E Long St\, Columbus\, OH\, 43203\, United States
CATEGORIES:Performance
END:VEVENT
BEGIN:VEVENT
DTSTART;TZID=America/New_York:20190914T100000
DTEND;TZID=America/New_York:20190914T120000
DTSTAMP:20260422T194705
CREATED:20190518T161106Z
LAST-MODIFIED:20190826T120450Z
UID:3400-1568455200-1568462400@dancingwheels.org
SUMMARY:Workshop for PA Vent Camp Horizons at Camp Victory in Millville\, PA 10am-12pm
DESCRIPTION:September 14\, 2019 \nMillville\, PA \nWorkshop for PA Vent Camp Horizons at Camp Victory \n10am-12pm
URL:https://dancingwheels.org/event/workshops-for-camp-sue-osborne-at-lake-county-ymca-outdoor-family-center-in-perry-oh-1230-220pm-2/
LOCATION:Camp Victory\, 58 Camp Victory Road\, Millville\, PA\, 17856\, United States
CATEGORIES:Workshop
END:VEVENT
BEGIN:VEVENT
DTSTART;TZID=America/New_York:20190828T100000
DTEND;TZID=America/New_York:20190828T120000
DTSTAMP:20260422T194705
CREATED:20181031T183430Z
LAST-MODIFIED:20190826T123735Z
UID:3416-1566986400-1566993600@dancingwheels.org
SUMMARY:In-studio observation for students of Oberlin College
DESCRIPTION:August 28\, 2019 \nDancing Wheels Studio \n“Connect Cleveland” an in-studio observation and participatory experience for students of Oberlin College.
URL:https://dancingwheels.org/event/lecture-performance-at-huy-elementary-school-in-columbus-oh-1245pm-2pm-2-2-2-2/
LOCATION:The Dancing Wheels Company Studio\, 3030 Euclid Avenue\, Cleveland\, OH\, 44115\, United States
CATEGORIES:In-studio observation
END:VEVENT
BEGIN:VEVENT
DTSTART;TZID=America/New_York:20190806T180000
DTEND;TZID=America/New_York:20190806T200000
DTSTAMP:20260422T194705
CREATED:20180711T123335Z
LAST-MODIFIED:20190826T124321Z
UID:3418-1565114400-1565121600@dancingwheels.org
SUMMARY:Dancing Wheels Annual Meeting
DESCRIPTION:The Dancing Wheels Company & School’s Annual Meeting will be held on Tuesday\, August 6th once again at Cibreo’s restaurant (in the back room called Cibreo Privato) at 6:00 p.m. The restaurant is located directly across from Playhouse Square\, and Cibreo Privato is accessible via an entrance on E 14th near the Hanna Theatre.\n\nThis is an open meeting and persons interested in joining our Board or learning more about our organization are welcome.\n\nAppetizers will be served along with a cash bar.
URL:https://dancingwheels.org/event/dancing-wheels-annual-meeting-2/
LOCATION:Cibreo Italian Kitchen\, 1438 Euclid Avenue\, Cleveland\, OH\, 44115\, United States
CATEGORIES:Board Meeting
END:VEVENT
BEGIN:VEVENT
DTSTART;VALUE=DATE:20190722
DTEND;VALUE=DATE:20190727
DTSTAMP:20260422T194705
CREATED:20181202T202416Z
LAST-MODIFIED:20181202T202416Z
UID:2800-1563753600-1564185599@dancingwheels.org
SUMMARY:Youth Arts Camp 2019
DESCRIPTION:Save the Date for the School of Dancing Wheels Youth Arts Camp July 22-26\, 2019
URL:https://dancingwheels.org/event/youth-arts-camp-2019/
LOCATION:The Dancing Wheels Company & School\, 3030 Euclid Ave.\, Cleveland\, OH\, 44115\, United States
CATEGORIES:Summer Camp,Youth Arts Camp
END:VEVENT
BEGIN:VEVENT
DTSTART;TZID=America/New_York:20190628T140000
DTEND;TZID=America/New_York:20190628T150000
DTSTAMP:20260422T194705
CREATED:20190518T161649Z
LAST-MODIFIED:20190518T161649Z
UID:3253-1561730400-1561734000@dancingwheels.org
SUMMARY:Lecture Performance at Halloran Park Gazebo for Westown CDC 2pm
DESCRIPTION:June 28\, 2019 \nCleveland\, OH \nLecture Performance\, free and open to the public\, at Halloran Park 2pm. \nPresented and sponsored by Westown Community Development Corporation.
URL:https://dancingwheels.org/event/lecture-performance-at-halloran-park-gazebo-for-westown-cdc-2pm/
LOCATION:Halloran Park Gazebo\, 3550 West 117th St\,\, Cleveland\, OH\, 44111\, United States
CATEGORIES:Lecture Performance,Performance
END:VEVENT
BEGIN:VEVENT
DTSTART;TZID=America/New_York:20190626T123000
DTEND;TZID=America/New_York:20190626T143000
DTSTAMP:20260422T194705
CREATED:20190518T161106Z
LAST-MODIFIED:20190518T161147Z
UID:3249-1561552200-1561559400@dancingwheels.org
SUMMARY:Workshops for Camp Sue Osborn at Lake County YMCA Outdoor Family Center in Perry\, OH 12:30-2:20pm
DESCRIPTION:June 26\, 2019 \nPerry\, OH \nWorkshops with guest appearances by Dancing Wheels company members for Camp Sue Osborn at Lake County YMCA Outdoor Family Center \n12:30-1pm\, 1:10-1:40pm\, 1:50-2:20pm
URL:https://dancingwheels.org/event/workshops-for-camp-sue-osborne-at-lake-county-ymca-outdoor-family-center-in-perry-oh-1230-220pm/
LOCATION:Lake County YMCA Outdoor Family Center\, 4540 River Rd\, Perry\, OH\, 44081\, United States
CATEGORIES:Guest Appearance,Performance,Workshop
END:VEVENT
BEGIN:VEVENT
DTSTART;TZID=America/New_York:20190622T120000
DTEND;TZID=America/New_York:20190622T124500
DTSTAMP:20260422T194705
CREATED:20190518T155538Z
LAST-MODIFIED:20190518T160312Z
UID:3245-1561204800-1561207500@dancingwheels.org
SUMMARY:Guest Appearance Performance at Abilities Expo in Chicago\, IL 12-12:45pm
DESCRIPTION:June 22\, 2019 \nChicago\, IL \nGuest Appearance Performance at Abilities Expo taking place at Renaissance Schaumburg Convention Center Hotel (1551 N Thoreau Dr N\, Schaumburg\, IL 60173) on Saturday 6/22 at 12-12:45pm \nVisit MobilityWorks booth at the Expo for more information.
URL:https://dancingwheels.org/event/guest-appearance-performance-at-opening-ceremony-of-dance-usa-conference-at-history-center-8-830pm-2/
LOCATION:Renaissance Schaumburg Convention Center Hotel\, 1551 N Thoreau Dr N\, Schaumburg\, IL\, 60173\, United States
CATEGORIES:Conference,Guest Appearance,Performance
END:VEVENT
BEGIN:VEVENT
DTSTART;VALUE=DATE:20190617
DTEND;VALUE=DATE:20190622
DTSTAMP:20260422T194705
CREATED:20181202T202143Z
LAST-MODIFIED:20181202T202143Z
UID:2798-1560729600-1561161599@dancingwheels.org
SUMMARY:Adult Summer Dance Intensive 2018
DESCRIPTION:Save the Date for Dancing Wheels’ Adult Summer Dance Intensive June 17-21\, 2019
URL:https://dancingwheels.org/event/adult-summer-dance-intensive-2018/
LOCATION:The Dancing Wheels Company & School\, 3030 Euclid Ave.\, Cleveland\, OH\, 44115\, United States
CATEGORIES:Training,Workshop
END:VEVENT
BEGIN:VEVENT
DTSTART;VALUE=DATE:20190614
DTEND;VALUE=DATE:20190615
DTSTAMP:20260422T194705
CREATED:20181031T183752Z
LAST-MODIFIED:20190518T162823Z
UID:2725-1560470400-1560556799@dancingwheels.org
SUMMARY:"Reverse* Reboot* Reveal!" Dancing Wheels' Gala & Performance at Playhouse Square - Allen Theatre June 14\, 2019
DESCRIPTION:Reverse*Reboot*Reveal!\nJune 14\, 2019 – 8:00 P.M.\nThe Allen Theatre at Playhouse Square \nHonorary Chairs: Tony\, Golden Globe\, and Emmy Award-winning Ben Vereen and Cleveland Arts Advocate\, Barbara Robinson \nJoin us for a world premiere event featuring the dynamic work of the nation’s most celebrated disabled choreographers\, with a special guest performance by Florent Devlesaver and Justin Collin\, as seen on France’s “One Incredible Talent.” \nDance Concert 8:00 p.m. – $40\nGroups of 10 or more – $35\nDanceUSA members – $30.00 (Use promo code: DANCEUSA)\nPurchase Tickets through the Playhouse Square Box Office \nVIP Tickets – $125 per Person\nGala Celebration including pre-performance hors d’oeuvres\, cocktails\, silent auction\, prime seating for the concert\, and meet & greet dessert and champagne after party! \nPurchase tickets online @dancingwheels.org or by calling (216) 423-0306. \n[Doors open at 7:30pm. Please enter through the interior of the Allen Theatre Complex.]
URL:https://dancingwheels.org/event/dance-usa-annual-conference-in-cleveland-oh-june-12-15-2019-2/
LOCATION:Playhouse Square – Allen Theatre\, 1407 Euclid Ave\, Cleveland\, OH\, 44115\, United States
CATEGORIES:Gala,Performance
ATTACH;FMTTYPE=image/jpeg:https://dancingwheels.org/wp-content/uploads/2018/10/DW-ReReRe-postcard-front.jpg
END:VEVENT
BEGIN:VEVENT
DTSTART;TZID=America/New_York:20190612T200000
DTEND;TZID=America/New_York:20190612T203000
DTSTAMP:20260422T194705
CREATED:20190518T155538Z
LAST-MODIFIED:20190518T155538Z
UID:3242-1560369600-1560371400@dancingwheels.org
SUMMARY:Guest Appearance Performance at Opening Ceremony of Dance/USA Conference at History Center 8-8:30pm
DESCRIPTION:June 12\, 2019 \nCleveland\, OH \nGuest Appearance Performance at Opening Ceremony of Dance/USA Conference at History Center 8-8:30pm
URL:https://dancingwheels.org/event/guest-appearance-performance-at-opening-ceremony-of-dance-usa-conference-at-history-center-8-830pm/
LOCATION:History Center\, 10825 East Blvd\, Cleveland\, OH\, 44106\, United States
CATEGORIES:Conference,Guest Appearance,Performance
END:VEVENT
BEGIN:VEVENT
DTSTART;VALUE=DATE:20190612
DTEND;VALUE=DATE:20190616
DTSTAMP:20260422T194705
CREATED:20181031T183752Z
LAST-MODIFIED:20190518T173407Z
UID:2723-1560297600-1560643199@dancingwheels.org
SUMMARY:Dance/USA Annual Conference in Cleveland\, OH June 12-15\, 2019
DESCRIPTION:June 12-15\, 2019 \nCleveland\, OH \nDance/USA Annual Conference \n6/14 – Save the date for The Dancing Wheels Company & School’s gala event & performance “Reverse* Reboot* Reveal!” at Playhouse Square Allen Theatre 8pm https://dancingwheels.org/reverserebootreveal/ \n\nThe Dance/USA Annual Conference is an invigorating gathering of dance professionals united by their interests in advancing dance and celebrating the joy of movement. It is a time to honor leaders in the field\, share and access new resources\, and connect with peers through thought-provoking training and conversations. Together\, attendees discover innovative approaches to shared problems and strengthen relationships among fellow dance professionals.\n\n\n \n\n\nJoin dance professionals from across the country and around the world June 12-15 in Cleveland\, and invest in yourself\, your organization\, and the future of dance. \n\n\n \n\n\nLearn more at https://danceusa.force.com/s/lt-event?id=a171J000003UBRpQAO#Home
URL:https://dancingwheels.org/event/dance-usa-annual-conference-in-cleveland-oh-june-12-15-2019/
LOCATION:OH
CATEGORIES:Conference
ATTACH;FMTTYPE=image/jpeg:https://dancingwheels.org/wp-content/uploads/2018/10/cafIZIpH_Website_jpg.jpg
END:VEVENT
BEGIN:VEVENT
DTSTART;TZID=UTC:20190523T193000
DTEND;TZID=UTC:20190523T210000
DTSTAMP:20260422T194705
CREATED:20170315T221818Z
LAST-MODIFIED:20190518T154913Z
UID:3238-1558639800-1558645200@dancingwheels.org
SUMMARY:Guest Appearance Performance at 2019 Spring to Dance Festival May 23\, 2019 AB Perf Hall 7:30pm
DESCRIPTION:May 23\, 2019 \nSt. Louis\, MO \nGuest appearance performance at 2019 Spring to Dance Festival at Touhill Performing Arts Center – Anheuser-Busch Performance Hall 7:30 pm
URL:https://dancingwheels.org/event/2017-spring-to-dance-festival-2/
LOCATION:Touhill Performing Arts Center\, 1 University Boulevard\, St. Louis\, MO\, 63121\, United States
CATEGORIES:Guest Appearance,Performance
END:VEVENT
BEGIN:VEVENT
DTSTART;TZID=America/New_York:20190517T093000
DTEND;TZID=America/New_York:20190517T113000
DTSTAMP:20260422T194705
CREATED:20181031T183430Z
LAST-MODIFIED:20190518T153155Z
UID:3230-1558085400-1558092600@dancingwheels.org
SUMMARY:Lecture Performance at Duxberry Arts IMPACT Elementary School in Columbus\, OH 9:30am & 10:30am
DESCRIPTION:May 17\, 2019 \nColumbus\, OH \nLecture performances at Duxberry Arts IMPACT Elementary School 9:30am & 10:30am \nPresented by Ohio Alliance for Arts Education (OAAE)
URL:https://dancingwheels.org/event/lecture-performance-at-huy-elementary-school-in-columbus-oh-1245pm-2pm-2-2/
LOCATION:Duxberry Arts IMPACT Elementary School\, 1779 East Maynard Avenue\, Columbus\, OH\, 43219\, United States
CATEGORIES:Lecture Performance
END:VEVENT
BEGIN:VEVENT
DTSTART;TZID=America/New_York:20190514T100000
DTEND;TZID=America/New_York:20190514T113000
DTSTAMP:20260422T194705
CREATED:20181031T183430Z
LAST-MODIFIED:20190518T154203Z
UID:3236-1557828000-1557833400@dancingwheels.org
SUMMARY:In-studio observation for students of Fernway Elementary
DESCRIPTION:May 14\, 2019 \nDancing Wheels Studio \nIn-studio observation for students of Fernway Elementary (from Shaker Heights\, OH) doing an exhibition project.
URL:https://dancingwheels.org/event/lecture-performance-at-huy-elementary-school-in-columbus-oh-1245pm-2pm-2-2-2/
LOCATION:The Dancing Wheels Company Studio\, 3030 Euclid Avenue\, Cleveland\, OH\, 44115\, United States
CATEGORIES:Lecture Performance
END:VEVENT
BEGIN:VEVENT
DTSTART;TZID=America/New_York:20190510T124500
DTEND;TZID=America/New_York:20190510T150000
DTSTAMP:20260422T194705
CREATED:20181031T183430Z
LAST-MODIFIED:20181031T183430Z
UID:2720-1557492300-1557500400@dancingwheels.org
SUMMARY:Lecture Performance at Huy Elementary School in Columbus\, OH 12:45pm & 2pm
DESCRIPTION:May 10\, 2019 \nColumbus\, OH \nLecture performance at Huy Elementary School 12:45pm & 2pm
URL:https://dancingwheels.org/event/lecture-performance-at-huy-elementary-school-in-columbus-oh-1245pm-2pm/
LOCATION:Huy Elementary\, 1545 Huy Rd\, Columbus\, OH\, 43224\, United States
CATEGORIES:Lecture Performance
END:VEVENT
BEGIN:VEVENT
DTSTART;TZID=America/New_York:20190505T093000
DTEND;TZID=America/New_York:20190505T101500
DTSTAMP:20260422T194705
CREATED:20181031T183430Z
LAST-MODIFIED:20190518T153723Z
UID:3233-1557048600-1557051300@dancingwheels.org
SUMMARY:Lecture Performance at Negative Space Gallery in Cleveland\, OH 9:30am
DESCRIPTION:May 5\, 2019 \nCleveland\, OH \nLecture performance at Negative Space Gallery 9:30am
URL:https://dancingwheels.org/event/lecture-performance-at-huy-elementary-school-in-columbus-oh-1245pm-2pm-3/
LOCATION:Negative Space Gallery\, 1541 E. 38th Street\, Cleveland\, OH\, 44114\, United States
CATEGORIES:Lecture Performance
END:VEVENT
BEGIN:VEVENT
DTSTART;TZID=America/New_York:20190428T100000
DTEND;TZID=America/New_York:20190428T111500
DTSTAMP:20260422T194705
CREATED:20190518T174944Z
LAST-MODIFIED:20190518T174944Z
UID:3274-1556445600-1556450100@dancingwheels.org
SUMMARY:Workshop at OhioDance Festival at OSU - Sullivant Hall 10-11:15am
DESCRIPTION:April 28\, 2019 \nColumbus\, OH \nWorkshop at OhioDance Festival at OSU – Sullivant Hall 10-11:15am \nPhysically Integrated Dance with Dancing Wheels: A Teacher’s Insight\nDance matters\, and it matters that a student of any varying physical ability is able to dance\, too! This class will provide an introduction to teachers who are interested in learning more about Dancing Wheels’ style of physically integrated dance and wheelchair translation to apply in their own classes for students with and without disabilities. \n\nSara Lawrence-Sucato hails from Columbus\, OH\, graduated from Mercyhurst University (Erie\, PA)\, and is in her thirteenth season as a member of The Dancing Wheels Company. Sara is also the company’s Tour Manager\, a company class instructor\, and teaches residencies\, workshops\, and masterclasses for The Dancing Wheels Company & School. She recently became the Director of Outreach & Community Engagement.
URL:https://dancingwheels.org/event/workshop-at-ohiodance-festival-at-osu-sullivant-hall-10-1115am/
LOCATION:OSU – Sullivant Hall\, 1813 North High Street\, Columbus\, OH\, 43210\, United States
CATEGORIES:Training,Workshop
END:VEVENT
BEGIN:VEVENT
DTSTART;TZID=America/New_York:20190427T190000
DTEND;TZID=America/New_York:20190427T210000
DTSTAMP:20260422T194705
CREATED:20190518T155538Z
LAST-MODIFIED:20190518T174553Z
UID:3271-1556391600-1556398800@dancingwheels.org
SUMMARY:Guest Appearance Performance at OhioDance Festival in Columbus\, OH at OSU - Sullivant Hall 7pm
DESCRIPTION:April 27\, 2019 \nColumbus\, OH \nGuest Appearance Performance at OhioDance Festival at OSU – Sullivant Hall 7pm
URL:https://dancingwheels.org/event/guest-appearance-performance-at-opening-ceremony-of-dance-usa-conference-at-history-center-8-830pm-2-2-2/
LOCATION:OSU – Sullivant Hall\, 1813 North High Street\, Columbus\, OH\, 43210\, United States
CATEGORIES:Guest Appearance,Performance
END:VEVENT
BEGIN:VEVENT
DTSTART;TZID=America/New_York:20190424T173000
DTEND;TZID=America/New_York:20190424T190000
DTSTAMP:20260422T194705
CREATED:20190518T155538Z
LAST-MODIFIED:20190518T174135Z
UID:3268-1556127000-1556132400@dancingwheels.org
SUMMARY:Guest Appearance Performance at Cleveland Clinic 5:30pm
DESCRIPTION:April 24\, 2019 \nCleveland\, OH \nGuest Appearance Performance at Cleveland Clinic for “Ten Years and Growing: Arts & Medicine Institute” event 5:30-7pm
URL:https://dancingwheels.org/event/guest-appearance-performance-at-opening-ceremony-of-dance-usa-conference-at-history-center-8-830pm-2-2/
LOCATION:Cleveland Clinic – Sheila and Eric Samson Pavilion at Health Education Campus\, 9501 Euclid Ave\, Cleveland\, OH\, 44106\, United States
CATEGORIES:Guest Appearance,Performance
END:VEVENT
BEGIN:VEVENT
DTSTART;TZID=America/New_York:20190412T134500
DTEND;TZID=America/New_York:20190412T143000
DTSTAMP:20260422T194705
CREATED:20181031T183430Z
LAST-MODIFIED:20190518T152451Z
UID:3227-1555076700-1555079400@dancingwheels.org
SUMMARY:Lecture Performance at Stevenson Elementary School in Columbus\, OH 1:45pm
DESCRIPTION:April 12\, 2019 \nColumbus\, OH \nLecture performance at Stevenson Elementary School 1:45pm \nPresented by Ohio Alliance for Arts Education (OAAE)
URL:https://dancingwheels.org/event/lecture-performance-at-huy-elementary-school-in-columbus-oh-1245pm-2pm-2/
LOCATION:Stevenson Elementary School\, 1065 Oxley Road\, Columbus\, OH\, 43212\, United States
CATEGORIES:Lecture Performance
END:VEVENT
BEGIN:VEVENT
DTSTART;VALUE=DATE:20190402
DTEND;VALUE=DATE:20190403
DTSTAMP:20260422T194705
CREATED:20181031T181406Z
LAST-MODIFIED:20181031T182709Z
UID:2712-1554163200-1554249599@dancingwheels.org
SUMMARY:Public Mainstage Performance in Wheeling\, WV at John Marshall High School – Auditorium
DESCRIPTION:April 1-2\, 2019 \nWheeling\, WV \nResidency for Oglebay Institute and community including a workshop\, lecture performance\, and mainstage public performance \n4/1 – Workshop at Oglebay Institute’s School of Dance 7pm \n4/2 – Private Lecture Performance for area schools at John Marshall High School – Auditorium \n4/2 – Public mainstage performance at John Marshall High School – Auditorium
URL:https://dancingwheels.org/event/workshop-at-oglebay-institutes-school-of-dance-7pm-3/
LOCATION:John Marshall High School – Auditorium\, 1300 Wheeling Ave\, Wheeling\, WV\, 26038\, United States
CATEGORIES:Performance,Residency
END:VEVENT
BEGIN:VEVENT
DTSTART;VALUE=DATE:20190402
DTEND;VALUE=DATE:20190403
DTSTAMP:20260422T194705
CREATED:20181031T181406Z
LAST-MODIFIED:20181031T183000Z
UID:2714-1554163200-1554249599@dancingwheels.org
SUMMARY:Private Lecture Performance for area schools in Wheeling\, WV at John Marshall High School – Auditorium
DESCRIPTION:April 1-2\, 2019 \nWheeling\, WV \nResidency for Oglebay Institute and community including a workshop\, lecture performance\, and mainstage public performance \n4/1 – Workshop at Oglebay Institute’s School of Dance 7pm \n4/2 – Private Lecture Performance for area schools at John Marshall High School – Auditorium \n4/2 – Public mainstage performance at John Marshall High School – Auditorium
URL:https://dancingwheels.org/event/workshop-at-oglebay-institutes-school-of-dance-7pm/
LOCATION:John Marshall High School – Auditorium\, 1300 Wheeling Ave\, Wheeling\, WV\, 26038\, United States
CATEGORIES:Lecture Performance,Residency
END:VEVENT
BEGIN:VEVENT
DTSTART;TZID=America/New_York:20190401T190000
DTEND;TZID=America/New_York:20190401T203000
DTSTAMP:20260422T194705
CREATED:20181031T181406Z
LAST-MODIFIED:20181031T182231Z
UID:2710-1554145200-1554150600@dancingwheels.org
SUMMARY:Workshop at Oglebay Institute’s School of Dance in Wheeling\, WV 7pm
DESCRIPTION:April 1-2\, 2019 \nWheeling\, WV \nResidency for Oglebay Institute and community including a workshop\, lecture performance\, and mainstage public performance \n4/1 – Workshop at Oglebay Institute’s School of Dance 7pm \n4/2 – Private Lecture Performance for area schools at John Marshall High School – Auditorium \n4/2 – Public mainstage performance at John Marshall High School – Auditorium
URL:https://dancingwheels.org/event/workshop-at-oglebay-institutes-school-of-dance-7pm-2/
LOCATION:Oglebay Institute\, 1330 National Road\, Wheeling\, WV\, 26003\, United States
CATEGORIES:Residency,Workshop
END:VEVENT
BEGIN:VEVENT
DTSTART;TZID=America/New_York:20190330T110000
DTEND;TZID=America/New_York:20190330T130000
DTSTAMP:20260422T194705
CREATED:20190518T175653Z
LAST-MODIFIED:20190518T175653Z
UID:3278-1553943600-1553950800@dancingwheels.org
SUMMARY:Dancing Wheels Company Audition at Ohio State University
DESCRIPTION:March 30\, 2019 \nColumbus\, OH \nOpen audition for The Dancing Wheels Company at Ohio State University 11am-1pm
URL:https://dancingwheels.org/event/dancing-wheels-company-audition-at-ohio-state-university/
LOCATION:OH
CATEGORIES:Audition
END:VEVENT
BEGIN:VEVENT
DTSTART;TZID=America/New_York:20190329T113000
DTEND;TZID=America/New_York:20190329T130000
DTSTAMP:20260422T194705
CREATED:20190518T155538Z
LAST-MODIFIED:20190518T180112Z
UID:3280-1553859000-1553864400@dancingwheels.org
SUMMARY:Guest Appearance Performance for Luncheon at Lincoln Theatre in Columbus\, OH 11:30am
DESCRIPTION:March 29\, 2019 \nColumbus\, OH \nGuest Appearance Performance for Luncheon at Lincoln Theatre in Columbus\, OH 11:30am-1pm
URL:https://dancingwheels.org/event/guest-appearance-performance-at-opening-ceremony-of-dance-usa-conference-at-history-center-8-830pm-2-3/
LOCATION:Lincoln Theatre\, 769 E Long St\, Columbus\, OH\, 43203\, United States
CATEGORIES:Guest Appearance,Performance
END:VEVENT
END:VCALENDAR