BEGIN:VCALENDAR
VERSION:2.0
PRODID:-//Dancing Wheels - ECPv6.15.20//NONSGML v1.0//EN
CALSCALE:GREGORIAN
METHOD:PUBLISH
X-ORIGINAL-URL:https://dancingwheels.org
X-WR-CALDESC:Events for Dancing Wheels
REFRESH-INTERVAL;VALUE=DURATION:PT1H
X-Robots-Tag:noindex
X-PUBLISHED-TTL:PT1H
BEGIN:VTIMEZONE
TZID:America/New_York
BEGIN:DAYLIGHT
TZOFFSETFROM:-0500
TZOFFSETTO:-0400
TZNAME:EDT
DTSTART:20230312T070000
END:DAYLIGHT
BEGIN:STANDARD
TZOFFSETFROM:-0400
TZOFFSETTO:-0500
TZNAME:EST
DTSTART:20231105T060000
END:STANDARD
BEGIN:DAYLIGHT
TZOFFSETFROM:-0500
TZOFFSETTO:-0400
TZNAME:EDT
DTSTART:20240310T070000
END:DAYLIGHT
BEGIN:STANDARD
TZOFFSETFROM:-0400
TZOFFSETTO:-0500
TZNAME:EST
DTSTART:20241103T060000
END:STANDARD
BEGIN:DAYLIGHT
TZOFFSETFROM:-0500
TZOFFSETTO:-0400
TZNAME:EDT
DTSTART:20250309T070000
END:DAYLIGHT
BEGIN:STANDARD
TZOFFSETFROM:-0400
TZOFFSETTO:-0500
TZNAME:EST
DTSTART:20251102T060000
END:STANDARD
END:VTIMEZONE
BEGIN:VTIMEZONE
TZID:America/New_York
BEGIN:DAYLIGHT
TZOFFSETFROM:-0500
TZOFFSETTO:-0400
TZNAME:EDT
DTSTART:20170312T070000
END:DAYLIGHT
BEGIN:STANDARD
TZOFFSETFROM:-0400
TZOFFSETTO:-0500
TZNAME:EST
DTSTART:20171105T060000
END:STANDARD
BEGIN:DAYLIGHT
TZOFFSETFROM:-0500
TZOFFSETTO:-0400
TZNAME:EDT
DTSTART:20180311T070000
END:DAYLIGHT
BEGIN:STANDARD
TZOFFSETFROM:-0400
TZOFFSETTO:-0500
TZNAME:EST
DTSTART:20181104T060000
END:STANDARD
BEGIN:DAYLIGHT
TZOFFSETFROM:-0500
TZOFFSETTO:-0400
TZNAME:EDT
DTSTART:20190310T070000
END:DAYLIGHT
BEGIN:STANDARD
TZOFFSETFROM:-0400
TZOFFSETTO:-0500
TZNAME:EST
DTSTART:20191103T060000
END:STANDARD
BEGIN:DAYLIGHT
TZOFFSETFROM:-0500
TZOFFSETTO:-0400
TZNAME:EDT
DTSTART:20200308T070000
END:DAYLIGHT
BEGIN:STANDARD
TZOFFSETFROM:-0400
TZOFFSETTO:-0500
TZNAME:EST
DTSTART:20201101T060000
END:STANDARD
BEGIN:DAYLIGHT
TZOFFSETFROM:-0500
TZOFFSETTO:-0400
TZNAME:EDT
DTSTART:20210314T070000
END:DAYLIGHT
BEGIN:STANDARD
TZOFFSETFROM:-0400
TZOFFSETTO:-0500
TZNAME:EST
DTSTART:20211107T060000
END:STANDARD
BEGIN:DAYLIGHT
TZOFFSETFROM:-0500
TZOFFSETTO:-0400
TZNAME:EDT
DTSTART:20220313T070000
END:DAYLIGHT
BEGIN:STANDARD
TZOFFSETFROM:-0400
TZOFFSETTO:-0500
TZNAME:EST
DTSTART:20221106T060000
END:STANDARD
BEGIN:DAYLIGHT
TZOFFSETFROM:-0500
TZOFFSETTO:-0400
TZNAME:EDT
DTSTART:20230312T070000
END:DAYLIGHT
BEGIN:STANDARD
TZOFFSETFROM:-0400
TZOFFSETTO:-0500
TZNAME:EST
DTSTART:20231105T060000
END:STANDARD
END:VTIMEZONE
BEGIN:VTIMEZONE
TZID:UTC
BEGIN:STANDARD
TZOFFSETFROM:+0000
TZOFFSETTO:+0000
TZNAME:UTC
DTSTART:20160101T000000
END:STANDARD
END:VTIMEZONE
BEGIN:VEVENT
DTSTART;TZID=America/New_York:20241112T094000
DTEND;TZID=America/New_York:20241112T125000
DTSTAMP:20260421T114246
CREATED:20241108T185106Z
LAST-MODIFIED:20241108T185106Z
UID:8716-1731404400-1731415800@dancingwheels.org
SUMMARY:Master Class Workshops for CDF | Akron
DESCRIPTION:Teaching artists from the Dancing Wheels Company will conduct two master class workshops at Firestone Community Learning Center in conjunction with the CDF | Akron Concert Series.
URL:https://dancingwheels.org/event/master-class-workshops-for-cdf-akron/
CATEGORIES:Masterclass
END:VEVENT
BEGIN:VEVENT
DTSTART;TZID=America/New_York:20220507T193000
DTEND;TZID=America/New_York:20220507T210000
DTSTAMP:20260421T114246
CREATED:20220312T162159Z
LAST-MODIFIED:20220312T162159Z
UID:6411-1651951800-1651957200@dancingwheels.org
SUMMARY:Guest Appearance Performance at Mid-Atlantic Dance Initiative Gala Performance 7:30 PM
DESCRIPTION:The Dancing Wheels Company will present at the Mid-Atlantic Dance Initiative with a Guest Appearance Performance in the Gala Concert.
URL:https://dancingwheels.org/event/guest-appearance-performance-at-mid-atlantic-dance-initiative-gala-performance-730-pm/
LOCATION:Haddad Riverfront Park\, 600 Kanawha Boulevard East\, Charleston\, WV\, 25301\, United States
CATEGORIES:Guest Appearance,Masterclass,Performance,Training
END:VEVENT
BEGIN:VEVENT
DTSTART;TZID=America/New_York:20220404T190000
DTEND;TZID=America/New_York:20220404T203000
DTSTAMP:20260421T114246
CREATED:20220312T160850Z
LAST-MODIFIED:20220312T160944Z
UID:6399-1649098800-1649104200@dancingwheels.org
SUMMARY:Dance & Movement Workshop at Oglebay Institute 7 PM
DESCRIPTION:Instructed by the Dancing Wheels Company of Cleveland\, Ohio\, this workshop provides a unique approach to education and therapy. Through the use of movement and performance\, those with physical\, sensory\, or developmental disabilities can participate in the art of dance. This inclusive workshop also invites non-disabled peers to join this freeing\, educational and joyous experience. The workshop takes place Monday\, April 4 from 7-8:30 PM at Oglebay Institute’s School of Dance. Open to all ages\, with or without physical disabilities. Register online or call 304-242-7700.
URL:https://dancingwheels.org/event/dance-movement-workshop-at-oglebay-institute-7-pm-2/
LOCATION:Oglebay Institute\, 1330 National Road\, Wheeling\, WV\, 26003\, United States
CATEGORIES:Masterclass,Training,Workshop
END:VEVENT
BEGIN:VEVENT
DTSTART;TZID=America/New_York:20210922T170000
DTEND;TZID=America/New_York:20210922T183000
DTSTAMP:20260421T114246
CREATED:20210919T232808Z
LAST-MODIFIED:20210919T233629Z
UID:6210-1632330000-1632335400@dancingwheels.org
SUMMARY:Dancing Wheels Workshop at Forward Motion 3 at 5PM
DESCRIPTION:“Become a T.E.A.M. Player with Dancing Wheels” allows participants of all abilities the opportunity to engage in an inclusive dance and movement experience based on the Dancing Wheels Company’s foundational principles of Translation\, Equity\, Accessibility\, and Meaning. Master Teachers Mary Verdi-Fletcher and Sara Lawrence-Sucato will lead the workshop using the Dancing Wheels methodologies of physically integrated dance rooted in scientific research and creative inquiry. Forward Motion Workshops are for the general public\, for those with and without disabilities\, and for dance professionals and students. $10 Per Individual Workshop CASH at the door only. More information on this workshop available HERE.
URL:https://dancingwheels.org/event/danci-ng-wheels-workshop-at-forward-motion-3-at-5pm/
LOCATION:Koubek Center\, 2705 SW 3rd St\, Miami\, FL\, 33135\, United States
CATEGORIES:Masterclass,Training,Workshop
END:VEVENT
BEGIN:VEVENT
DTSTART;TZID=America/New_York:20210916T190000
DTEND;TZID=America/New_York:20210916T200000
DTSTAMP:20260421T114246
CREATED:20210919T232328Z
LAST-MODIFIED:20210919T233712Z
UID:6207-1631818800-1631822400@dancingwheels.org
SUMMARY:ReelAbilities Virtual Dance Workshop 7PM
DESCRIPTION:A pre-taped virtual dance class led by Dancing Wheels will be emailed all whoregisterfor the ReelAbilities Virtual Film Series Opening Night: A Celebration of Performance Art! Register for free HERE.
URL:https://dancingwheels.org/event/reelabilities-virtual-dance-workshop-7pm/
LOCATION:Online
CATEGORIES:Masterclass,Training,Workshop
END:VEVENT
BEGIN:VEVENT
DTSTART;TZID=America/New_York:20210501T140000
DTEND;TZID=America/New_York:20210501T150000
DTSTAMP:20260421T114246
CREATED:20210206T212354Z
LAST-MODIFIED:20210206T223917Z
UID:5661-1619877600-1619881200@dancingwheels.org
SUMMARY:Workshop at OhioDance Festival 2 PM
DESCRIPTION:The Dancing Wheels Company to teach an hour-long virtual workshop for the 2021 OhioDance Festival.
URL:https://dancingwheels.org/event/workshop-at-ohiodance-festival-2-pm/
LOCATION:Online
CATEGORIES:Masterclass,Workshop
END:VEVENT
BEGIN:VEVENT
DTSTART;TZID=America/New_York:20201024T143000
DTEND;TZID=America/New_York:20201024T153000
DTSTAMP:20260421T114246
CREATED:20201007T223950Z
LAST-MODIFIED:20201007T224220Z
UID:5383-1603549800-1603553400@dancingwheels.org
SUMMARY:Elements Dance Class - Ballet
DESCRIPTION:Dancing Wheels Company Master Teachers Mary Verdi-Fletcher\, Mark Tomasic\, and Sara Lawrence-Sucato will lead a physically integrated dance class in  classical ballet technique on Saturday\, October 24 at 2:30-3:30PM CT (3:30PM Eastern Time). Participants will engage in an inclusive dance experience based on the Company’s foundational principles of Translation\, Equity\, Accessibility\, and Meaning. For more information about this class\, visit https://www.bodyshift.org/events and https://www.artsparktx.org/product/integrated-dance-elements-class/ to register for class! \n 
URL:https://dancingwheels.org/event/elements-dance-class-ballet/
CATEGORIES:Masterclass,Workshop
END:VEVENT
BEGIN:VEVENT
DTSTART;TZID=America/New_York:20201010T143000
DTEND;TZID=America/New_York:20201010T153000
DTSTAMP:20260421T114246
CREATED:20201007T222939Z
LAST-MODIFIED:20201007T224311Z
UID:5380-1602340200-1602343800@dancingwheels.org
SUMMARY:Elements Dance Class - Modern
DESCRIPTION:Dancing Wheels Company Master Teachers Mary Verdi-Fletcher\, Mark Tomasic\, and Sara Lawrence-Sucato will lead a physically integrated dance class in modern technique on October 10\, 2:30-3:30PM CT (3:30PM Eastern Time). Participants will engage in an inclusive dance experience based on the Company’s foundational principles of Translation\, Equity\, Accessibility\, and Meaning. For more information about this class\, visit https://www.bodyshift.org/events and https://www.artsparktx.org/product/integrated-dance-elements-class/ to register for class!
URL:https://dancingwheels.org/event/elements-modern-dance-class/
CATEGORIES:Masterclass,Workshop
END:VEVENT
BEGIN:VEVENT
DTSTART;TZID=America/New_York:20180423T123000
DTEND;TZID=America/New_York:20180423T140000
DTSTAMP:20260421T114246
CREATED:20180430T154301Z
LAST-MODIFIED:20180430T154301Z
UID:2375-1524486600-1524492000@dancingwheels.org
SUMMARY:Masterclass at University of Akron
DESCRIPTION:April 23\, 2018 \nAkron\, OH \nMasterclass at University of Akron – Guzetta Hall 12:30-2pm
URL:https://dancingwheels.org/event/masterclass-at-university-of-akron/
LOCATION:University of Akron – Guzetta Hall\, 224 East Buchtel Avenue\, Akron\, OH\, 44325\, United States
CATEGORIES:Masterclass
END:VEVENT
BEGIN:VEVENT
DTSTART;TZID=America/New_York:20180218T140000
DTEND;TZID=America/New_York:20180218T160000
DTSTAMP:20260421T114246
CREATED:20171125T211940Z
LAST-MODIFIED:20171125T211940Z
UID:2006-1518962400-1518969600@dancingwheels.org
SUMMARY:Masterclass at Fine Arts Association in Willoughby\, OH
DESCRIPTION:Masterclass for students ages 8-18 at Fine Arts Association in Willoughby\, OH 2-4pm
URL:https://dancingwheels.org/event/masterclass-at-fine-arts-association-in-willoughby-oh-2/
LOCATION:Fine Arts Association\, 38600 Mentor Avenue\, Mentor\, OH\, 44094\, United States
CATEGORIES:Masterclass,Training
END:VEVENT
BEGIN:VEVENT
DTSTART;TZID=UTC:20171008T100000
DTEND;TZID=UTC:20171008T113000
DTSTAMP:20260421T114246
CREATED:20170622T172809Z
LAST-MODIFIED:20170622T172809Z
UID:1528-1507456800-1507462200@dancingwheels.org
SUMMARY:Dancing Wheels Masterclass in Physically Integrated Dance Technique
DESCRIPTION:Founder and Artistic Director Mary Verdi-Fletcher along with Dancing Wheels Company members will provide a hands-on step-by-step application in the techniques of physically integrated dance used and developed by the Company for the past 36 years. The methodologies applied in this class (available in our published manual) will range from an integrated modern class using translation\, partnering\, and technical aspects of wheelchair technique. \nThe cost for this Masterclass is $20 and space must be reserved by calling the offices at 216-432-0306 or by enrolling online. \nCandidates interested in auditioning for the Company (starting at 12:15pm) are strongly encouraged to take the Masterclass.
URL:https://dancingwheels.org/event/dancing-wheels-masterclass-in-physically-integrated-dance-technique/
LOCATION:Alvin Ailey American Dance Theater – Studio\, 405 W 55th Street\, New York\, NY\, 10019\, United States
CATEGORIES:Masterclass
END:VEVENT
END:VCALENDAR