BEGIN:VCALENDAR
VERSION:2.0
PRODID:-//Dancing Wheels - ECPv6.15.20//NONSGML v1.0//EN
CALSCALE:GREGORIAN
METHOD:PUBLISH
X-ORIGINAL-URL:https://dancingwheels.org
X-WR-CALDESC:Events for Dancing Wheels
REFRESH-INTERVAL;VALUE=DURATION:PT1H
X-Robots-Tag:noindex
X-PUBLISHED-TTL:PT1H
BEGIN:VTIMEZONE
TZID:America/New_York
BEGIN:DAYLIGHT
TZOFFSETFROM:-0500
TZOFFSETTO:-0400
TZNAME:EDT
DTSTART:20220313T070000
END:DAYLIGHT
BEGIN:STANDARD
TZOFFSETFROM:-0400
TZOFFSETTO:-0500
TZNAME:EST
DTSTART:20221106T060000
END:STANDARD
BEGIN:DAYLIGHT
TZOFFSETFROM:-0500
TZOFFSETTO:-0400
TZNAME:EDT
DTSTART:20230312T070000
END:DAYLIGHT
BEGIN:STANDARD
TZOFFSETFROM:-0400
TZOFFSETTO:-0500
TZNAME:EST
DTSTART:20231105T060000
END:STANDARD
BEGIN:DAYLIGHT
TZOFFSETFROM:-0500
TZOFFSETTO:-0400
TZNAME:EDT
DTSTART:20240310T070000
END:DAYLIGHT
BEGIN:STANDARD
TZOFFSETFROM:-0400
TZOFFSETTO:-0500
TZNAME:EST
DTSTART:20241103T060000
END:STANDARD
BEGIN:DAYLIGHT
TZOFFSETFROM:-0500
TZOFFSETTO:-0400
TZNAME:EDT
DTSTART:20250309T070000
END:DAYLIGHT
BEGIN:STANDARD
TZOFFSETFROM:-0400
TZOFFSETTO:-0500
TZNAME:EST
DTSTART:20251102T060000
END:STANDARD
END:VTIMEZONE
BEGIN:VEVENT
DTSTART;TZID=America/New_York:20240914T100000
DTEND;TZID=America/New_York:20240914T150000
DTSTAMP:20260421T130917
CREATED:20240821T190706Z
LAST-MODIFIED:20240821T190706Z
UID:8639-1726308000-1726326000@dancingwheels.org
SUMMARY:DW Community Day
DESCRIPTION:Saturday\, September 14\, 2024 10:00am–3:00pm \n3030 Euclid Avenue\, Cleveland\, OH 44115 \nJoin the School of Dancing Wheels for a free day of classes open to the community. Try the various classes that we offer both in-studio and online. Then sign up for the Fall session of classes that runs September 16 through December 14\, 2024. There will not be classes the week of November 25–30\, 2024. \nAbout the School: \nThe School of Dancing Wheels offers weekly dance classes for individuals of all abilities\, ages 3 and up. Students socialize with their peers in an environment that allows them to explore critical thinking\, creative problem solving\, and self-awareness through the arts. \nIn-Studio & Online Classes: \n\nBallet\nContemporary\nCapoeira\nConditioning\nJazz Funk\nHip-Hop\nOpen DW Community Class\nYouth Combo Class\nWheelchair Technique\nPerformance Ensemble* (*not available for online participation)\n\nContact us: \n216-432-0306 \nwww.dancingwheels.org \nschool@dancingwheels.org \n  \n  \nClass Time                 Class & Instructor                                          Class & Instructor \n                                    Big Studio                                                       Small Studio \n10:00am–11:00am      Combo Level 1 (Dominique)                          Contemporary (Sara) \nAges 3–7                                                         Ages 13+ \n11:00am–12:00pm     Open DW Community Class (Sara)                 Ballet (Dominique) \nAges 6+                                                           Ages 10+ \n12:00pm–1:00pm       Jazz Funk (Dominique) \nAges 13+ \n1:00pm–2:00pm         Wheelchair Technique (Sara)                         Hip Hop (Frank) \nOpen ages                                                       Ages 10+ \n2:00pm–3:00pm         Capoeira (Frank)                                             Conditioning (Sara) \nAges 10+                                                         Adults/teens \nDW Community Day
URL:https://dancingwheels.org/event/dw-community-day-2/
LOCATION:The Dancing Wheels Company & School\, 3030 Euclid Ave.\, Cleveland\, OH\, 44115\, United States
CATEGORIES:Classes,Community Engagement Opportunity
ATTACH;FMTTYPE=image/png:https://dancingwheels.org/wp-content/uploads/2024/08/DW-Community-Day-Sept-2024-Square-ad-Instagram-Post.png
ORGANIZER;CN="Dancing Wheels Company & School":MAILTO:info@dancingwheels.org
END:VEVENT
BEGIN:VEVENT
DTSTART;TZID=America/New_York:20240727T100000
DTEND;TZID=America/New_York:20240727T141500
DTSTAMP:20260421T130917
CREATED:20240801T010533Z
LAST-MODIFIED:20240801T010533Z
UID:8604-1722074400-1722089700@dancingwheels.org
SUMMARY:Dancing Wheels at "Community Dance Day" in Cleveland\, OH
DESCRIPTION:DANCECleveland’s Community Dance Day 2024 is on Saturday\, July 27th at Playhouse Square!\n\n\n\nThis free event includes over a dozen different classes to try in all different styles and is open for all ages and abilities. Dancing Wheels Director of Education Sara Lawrence-Sucato will be onsite showing seated adaptations for the open-level community classes!
URL:https://dancingwheels.org/event/dancing-wheels-at-community-dance-day-in-cleveland-oh/
LOCATION:Playhouse Square – KeyBank State Theatre\, 1519 Euclid Ave.\, Cleveland\, OH\, 44115\, United States
CATEGORIES:Classes,Community Engagement Opportunity
END:VEVENT
BEGIN:VEVENT
DTSTART;TZID=America/New_York:20230819T100000
DTEND;TZID=America/New_York:20230819T153000
DTSTAMP:20260421T130917
CREATED:20230518T233140Z
LAST-MODIFIED:20230728T025912Z
UID:8169-1692439200-1692459000@dancingwheels.org
SUMMARY:"We Can Do It with Dance" Inclusive Dance Festival 2023
DESCRIPTION:  \nWe Can Do It with Dance!  \nCleveland’s first inclusive dance festival offers a day of dance classes for participants of all ages and abilities. Join the Dancing Wheels Company & School and North Pointe Ballet at Beck Center for the Arts on August 19\, 2023 for a full schedule of classes in multiple genres and styles of dance adapted for people with diverse abilities and open to all learning levels. The end of the day includes a Dance Party and Reception for students\, friends\, and families. \nFunding for this program is provided in part by Cuyahoga County Board of Developmental Disabilities. \nDate & Time:  \nSaturday\, August 19\, 2023 \n10:00a.m. – 3:30p.m. \nLocation: \nBeck Center for the Arts – Music & Creative Arts Therapies (MCAT) Building \n17801 Detroit Ave\, Lakewood\, OH 44107 \nClass Descriptions: \nSensory Friendly – Sensory friendly dance introduces neurodiverse and neurotypical individuals to stretching\, exploring movements from different styles of dance\, and dance games in an inclusive\, welcoming\, and accepting environment. For ages 8–13. (NPB–Melaina McConnell\, lead instructor) \nPhysically Integrated Dance (PID) Modern – Instructors from the Dancing Wheels Company & School will lead a physically integrated modern dance class using translation and adaptive movement approaches. For ages 14 & up. (DW–Sara Lawrence-Sucato and Mary Verdi-Fletcher\, lead instructors) \nJazz Funk – Fierce\, fun and energized\, this class blends jazz dance and various other popular dance styles! For ages 8–13. (DW–Dominique Patton\, lead instructor) \nBallet – Increase and strengthen technical aspects of the traditional classical artform. For ages 14 & up. (NPB–Elizabeth Radachi\, lead instructor) \nTheater Dance – Combines jazz\, ballet\, and pantomime movements in choreographed combinations and improv games that communicate stories and express feelings. For ages 8–13. (NPB–Janet Dziak\, lead instructor) \nCapoeira – Capoeira is a martial art disguised as dance. For ages 14 & up. (DW–Frank Polk\, lead instructor) \nDance Party – Open to all festival participants\, students\, family members\, and friends\, the Dance Party hosted by Dancing Wheels and North Pointe Ballet offers an inclusive atmosphere to learn popular line dances and enjoy social dancing. Refreshments will be provided. Open ages. (DW–Sara Lawrence-Sucato\, Dominique Patton and NPB–Melaina McConnell\, lead instructors) \nSchedule: \nDance Room 1 (Ages 8–13) \n\n10:00am–11:00am Sensory Friendly (NPB)\n11:15am–12:15pm Jazz Funk (DW)\n1:00pm–2:00pm Theater Dance (NPB)\n\nDance Room 2 (Ages 14 & up) \n\n10:00am–11:00am PID Modern (DW)\n11:15am–12:15pm Ballet (NPB)\n1:00pm–2:00pm Capoeira (DW)\n\nLocation 3 – MCAT Lobby (All participants) \n\n2:30pm–3:30pm Dance Party (DW & NPB)\n\nCost: \nParticipants can sign up for single classes (including Dance Party) at $15 per class or pay $50 (Save $10) for a WCDIWD Class Pass for the entire day. \nSelect classes and register: \nRegister Here \nQuestions? Email outreach@dancingwheels.org \nA limited amount of partial scholarships are available on a first come first served basis.
URL:https://dancingwheels.org/event/we-can-do-it-with-dance-inclusive-dance-festival-registration/
LOCATION:Beck Center for the Arts\, 17801 Detroit Avenue\, Lakewood\, OH\, 44107\, United States
CATEGORIES:Classes,Community Engagement Opportunity,Training
ATTACH;FMTTYPE=image/png:https://dancingwheels.org/wp-content/uploads/2023/05/inclusive-dance-fest-FB-Event-cover-photo.png
ORGANIZER;CN="Dancing Wheels Company & School":MAILTO:info@dancingwheels.org
END:VEVENT
END:VCALENDAR