BEGIN:VCALENDAR
VERSION:2.0
PRODID:-//Dancing Wheels - ECPv6.15.20//NONSGML v1.0//EN
CALSCALE:GREGORIAN
METHOD:PUBLISH
X-ORIGINAL-URL:https://dancingwheels.org
X-WR-CALDESC:Events for Dancing Wheels
REFRESH-INTERVAL;VALUE=DURATION:PT1H
X-Robots-Tag:noindex
X-PUBLISHED-TTL:PT1H
BEGIN:VTIMEZONE
TZID:America/New_York
BEGIN:DAYLIGHT
TZOFFSETFROM:-0500
TZOFFSETTO:-0400
TZNAME:EDT
DTSTART:20230312T070000
END:DAYLIGHT
BEGIN:STANDARD
TZOFFSETFROM:-0400
TZOFFSETTO:-0500
TZNAME:EST
DTSTART:20231105T060000
END:STANDARD
BEGIN:DAYLIGHT
TZOFFSETFROM:-0500
TZOFFSETTO:-0400
TZNAME:EDT
DTSTART:20240310T070000
END:DAYLIGHT
BEGIN:STANDARD
TZOFFSETFROM:-0400
TZOFFSETTO:-0500
TZNAME:EST
DTSTART:20241103T060000
END:STANDARD
BEGIN:DAYLIGHT
TZOFFSETFROM:-0500
TZOFFSETTO:-0400
TZNAME:EDT
DTSTART:20250309T070000
END:DAYLIGHT
BEGIN:STANDARD
TZOFFSETFROM:-0400
TZOFFSETTO:-0500
TZNAME:EST
DTSTART:20251102T060000
END:STANDARD
END:VTIMEZONE
BEGIN:VEVENT
DTSTART;TZID=America/New_York:20240914T100000
DTEND;TZID=America/New_York:20240914T150000
DTSTAMP:20260423T131026
CREATED:20240821T190706Z
LAST-MODIFIED:20240821T190706Z
UID:8639-1726308000-1726326000@dancingwheels.org
SUMMARY:DW Community Day
DESCRIPTION:Saturday\, September 14\, 2024 10:00am–3:00pm \n3030 Euclid Avenue\, Cleveland\, OH 44115 \nJoin the School of Dancing Wheels for a free day of classes open to the community. Try the various classes that we offer both in-studio and online. Then sign up for the Fall session of classes that runs September 16 through December 14\, 2024. There will not be classes the week of November 25–30\, 2024. \nAbout the School: \nThe School of Dancing Wheels offers weekly dance classes for individuals of all abilities\, ages 3 and up. Students socialize with their peers in an environment that allows them to explore critical thinking\, creative problem solving\, and self-awareness through the arts. \nIn-Studio & Online Classes: \n\nBallet\nContemporary\nCapoeira\nConditioning\nJazz Funk\nHip-Hop\nOpen DW Community Class\nYouth Combo Class\nWheelchair Technique\nPerformance Ensemble* (*not available for online participation)\n\nContact us: \n216-432-0306 \nwww.dancingwheels.org \nschool@dancingwheels.org \n  \n  \nClass Time                 Class & Instructor                                          Class & Instructor \n                                    Big Studio                                                       Small Studio \n10:00am–11:00am      Combo Level 1 (Dominique)                          Contemporary (Sara) \nAges 3–7                                                         Ages 13+ \n11:00am–12:00pm     Open DW Community Class (Sara)                 Ballet (Dominique) \nAges 6+                                                           Ages 10+ \n12:00pm–1:00pm       Jazz Funk (Dominique) \nAges 13+ \n1:00pm–2:00pm         Wheelchair Technique (Sara)                         Hip Hop (Frank) \nOpen ages                                                       Ages 10+ \n2:00pm–3:00pm         Capoeira (Frank)                                             Conditioning (Sara) \nAges 10+                                                         Adults/teens \nDW Community Day
URL:https://dancingwheels.org/event/dw-community-day-2/
LOCATION:The Dancing Wheels Company & School\, 3030 Euclid Ave.\, Cleveland\, OH\, 44115\, United States
CATEGORIES:Classes,Community Engagement Opportunity
ATTACH;FMTTYPE=image/png:https://dancingwheels.org/wp-content/uploads/2024/08/DW-Community-Day-Sept-2024-Square-ad-Instagram-Post.png
ORGANIZER;CN="Dancing Wheels Company & School":MAILTO:info@dancingwheels.org
END:VEVENT
END:VCALENDAR