BEGIN:VCALENDAR
VERSION:2.0
PRODID:-//Dancing Wheels - ECPv6.15.20//NONSGML v1.0//EN
CALSCALE:GREGORIAN
METHOD:PUBLISH
X-WR-CALNAME:Dancing Wheels
X-ORIGINAL-URL:https://dancingwheels.org
X-WR-CALDESC:Events for Dancing Wheels
REFRESH-INTERVAL;VALUE=DURATION:PT1H
X-Robots-Tag:noindex
X-PUBLISHED-TTL:PT1H
BEGIN:VTIMEZONE
TZID:America/New_York
BEGIN:DAYLIGHT
TZOFFSETFROM:-0500
TZOFFSETTO:-0400
TZNAME:EDT
DTSTART:20170312T070000
END:DAYLIGHT
BEGIN:STANDARD
TZOFFSETFROM:-0400
TZOFFSETTO:-0500
TZNAME:EST
DTSTART:20171105T060000
END:STANDARD
BEGIN:DAYLIGHT
TZOFFSETFROM:-0500
TZOFFSETTO:-0400
TZNAME:EDT
DTSTART:20180311T070000
END:DAYLIGHT
BEGIN:STANDARD
TZOFFSETFROM:-0400
TZOFFSETTO:-0500
TZNAME:EST
DTSTART:20181104T060000
END:STANDARD
BEGIN:DAYLIGHT
TZOFFSETFROM:-0500
TZOFFSETTO:-0400
TZNAME:EDT
DTSTART:20190310T070000
END:DAYLIGHT
BEGIN:STANDARD
TZOFFSETFROM:-0400
TZOFFSETTO:-0500
TZNAME:EST
DTSTART:20191103T060000
END:STANDARD
BEGIN:DAYLIGHT
TZOFFSETFROM:-0500
TZOFFSETTO:-0400
TZNAME:EDT
DTSTART:20200308T070000
END:DAYLIGHT
BEGIN:STANDARD
TZOFFSETFROM:-0400
TZOFFSETTO:-0500
TZNAME:EST
DTSTART:20201101T060000
END:STANDARD
BEGIN:DAYLIGHT
TZOFFSETFROM:-0500
TZOFFSETTO:-0400
TZNAME:EDT
DTSTART:20210314T070000
END:DAYLIGHT
BEGIN:STANDARD
TZOFFSETFROM:-0400
TZOFFSETTO:-0500
TZNAME:EST
DTSTART:20211107T060000
END:STANDARD
BEGIN:DAYLIGHT
TZOFFSETFROM:-0500
TZOFFSETTO:-0400
TZNAME:EDT
DTSTART:20220313T070000
END:DAYLIGHT
BEGIN:STANDARD
TZOFFSETFROM:-0400
TZOFFSETTO:-0500
TZNAME:EST
DTSTART:20221106T060000
END:STANDARD
END:VTIMEZONE
BEGIN:VTIMEZONE
TZID:UTC
BEGIN:STANDARD
TZOFFSETFROM:+0000
TZOFFSETTO:+0000
TZNAME:UTC
DTSTART:20160101T000000
END:STANDARD
END:VTIMEZONE
BEGIN:VEVENT
DTSTART;TZID=America/New_York:20211012T093000
DTEND;TZID=America/New_York:20211012T113000
DTSTAMP:20260423T062728
CREATED:20210920T012107Z
LAST-MODIFIED:20210920T012107Z
UID:6226-1634031000-1634038200@dancingwheels.org
SUMMARY:In-Studio Observation for Cleveland State University 9:30AM
DESCRIPTION:The Dancing Wheels Company to hold an in-studio observation and participatory experience for Department of Physical Therapy students at Cleveland State University.
URL:https://dancingwheels.org/event/in-studio-observation-for-cleveland-state-university-930am/
LOCATION:The Dancing Wheels Company Studio\, 3030 Euclid Avenue\, Cleveland\, OH\, 44115\, United States
CATEGORIES:In-studio observation,Training,Workshop
ORGANIZER;CN="Dancing Wheels Company & School":MAILTO:info@dancingwheels.org
END:VEVENT
BEGIN:VEVENT
DTSTART;TZID=America/New_York:20200212T100000
DTEND;TZID=America/New_York:20200212T113000
DTSTAMP:20260423T062728
CREATED:20200117T211540Z
LAST-MODIFIED:20200117T211540Z
UID:3961-1581501600-1581507000@dancingwheels.org
SUMMARY:In-studio observation for the Cleveland Arts Education Consortium
DESCRIPTION:February 12\, 2020 \nDancing Wheels Studio \nAn in-studio observation and participatory experience for the Cleveland Arts Education Consortium (CAEC).
URL:https://dancingwheels.org/event/in-studio-observation-for-the-cleveland-arts-education-consortium/
LOCATION:The Dancing Wheels Company Studio\, 3030 Euclid Avenue\, Cleveland\, OH\, 44115\, United States
CATEGORIES:In-studio observation
END:VEVENT
BEGIN:VEVENT
DTSTART;TZID=America/New_York:20200122T143000
DTEND;TZID=America/New_York:20200122T160000
DTSTAMP:20260423T062728
CREATED:20200117T211908Z
LAST-MODIFIED:20200117T212142Z
UID:3962-1579703400-1579708800@dancingwheels.org
SUMMARY:In-studio observation for the Cleveland Council on World Affairs and International Visitors from Ukraine
DESCRIPTION:January 21\, 2020 \nDancing Wheels Studio \nAn in-studio observation and participatory experience for the the Cleveland Council on World Affairs (CCWA) and International Visitors from Ukraine.
URL:https://dancingwheels.org/event/in-studio-observation-for-the-cleveland-council-on-world-affairs-and-international-visitors-from-ukraine/
LOCATION:The Dancing Wheels Company Studio\, 3030 Euclid Avenue\, Cleveland\, OH\, 44115\, United States
CATEGORIES:In-studio observation
END:VEVENT
BEGIN:VEVENT
DTSTART;TZID=America/New_York:20190828T100000
DTEND;TZID=America/New_York:20190828T120000
DTSTAMP:20260423T062728
CREATED:20181031T183430Z
LAST-MODIFIED:20190826T123735Z
UID:3416-1566986400-1566993600@dancingwheels.org
SUMMARY:In-studio observation for students of Oberlin College
DESCRIPTION:August 28\, 2019 \nDancing Wheels Studio \n“Connect Cleveland” an in-studio observation and participatory experience for students of Oberlin College.
URL:https://dancingwheels.org/event/lecture-performance-at-huy-elementary-school-in-columbus-oh-1245pm-2pm-2-2-2-2/
LOCATION:The Dancing Wheels Company Studio\, 3030 Euclid Avenue\, Cleveland\, OH\, 44115\, United States
CATEGORIES:In-studio observation
END:VEVENT
BEGIN:VEVENT
DTSTART;TZID=America/New_York:20180710T100000
DTEND;TZID=America/New_York:20180710T120000
DTSTAMP:20260423T062728
CREATED:20180711T121301Z
LAST-MODIFIED:20180711T121301Z
UID:2435-1531216800-1531224000@dancingwheels.org
SUMMARY:In-studio Observation for Students from CSU's Department of Physical Therapy
DESCRIPTION:
URL:https://dancingwheels.org/event/in-studio-observation-for-students-from-csus-department-of-physical-therapy/
LOCATION:OH
CATEGORIES:In-studio observation
END:VEVENT
BEGIN:VEVENT
DTSTART;TZID=UTC:20170720T093000
DTEND;TZID=UTC:20170720T113000
DTSTAMP:20260423T062728
CREATED:20170615T221104Z
LAST-MODIFIED:20170615T221104Z
UID:1452-1500543000-1500550200@dancingwheels.org
SUMMARY:In-studio Observation for Students of CSU Physical Therapy Program
DESCRIPTION:July 20\, 2017 \nCleveland\, OH \nIn-studio class observation from students of CSU Physical Therapy Program 9:30-11:30am
URL:https://dancingwheels.org/event/in-studio-observation-for-students-of-csu-physical-therapy-program/
LOCATION:The Dancing Wheels Company Studio\, 3030 Euclid Avenue\, Cleveland\, OH\, 44115\, United States
CATEGORIES:In-studio observation,Performances
ATTACH;FMTTYPE=image/jpeg:https://dancingwheels.org/wp-content/uploads/2017/06/11755163_10153539273860229_1907953183621131182_n.jpg
END:VEVENT
END:VCALENDAR