BEGIN:VCALENDAR
VERSION:2.0
PRODID:-//Dancing Wheels - ECPv6.15.20//NONSGML v1.0//EN
CALSCALE:GREGORIAN
METHOD:PUBLISH
X-ORIGINAL-URL:https://dancingwheels.org
X-WR-CALDESC:Events for Dancing Wheels
REFRESH-INTERVAL;VALUE=DURATION:PT1H
X-Robots-Tag:noindex
X-PUBLISHED-TTL:PT1H
BEGIN:VTIMEZONE
TZID:America/New_York
BEGIN:DAYLIGHT
TZOFFSETFROM:-0500
TZOFFSETTO:-0400
TZNAME:EDT
DTSTART:20230312T070000
END:DAYLIGHT
BEGIN:STANDARD
TZOFFSETFROM:-0400
TZOFFSETTO:-0500
TZNAME:EST
DTSTART:20231105T060000
END:STANDARD
BEGIN:DAYLIGHT
TZOFFSETFROM:-0500
TZOFFSETTO:-0400
TZNAME:EDT
DTSTART:20240310T070000
END:DAYLIGHT
BEGIN:STANDARD
TZOFFSETFROM:-0400
TZOFFSETTO:-0500
TZNAME:EST
DTSTART:20241103T060000
END:STANDARD
BEGIN:DAYLIGHT
TZOFFSETFROM:-0500
TZOFFSETTO:-0400
TZNAME:EDT
DTSTART:20250309T070000
END:DAYLIGHT
BEGIN:STANDARD
TZOFFSETFROM:-0400
TZOFFSETTO:-0500
TZNAME:EST
DTSTART:20251102T060000
END:STANDARD
BEGIN:DAYLIGHT
TZOFFSETFROM:-0500
TZOFFSETTO:-0400
TZNAME:EDT
DTSTART:20260308T070000
END:DAYLIGHT
BEGIN:STANDARD
TZOFFSETFROM:-0400
TZOFFSETTO:-0500
TZNAME:EST
DTSTART:20261101T060000
END:STANDARD
END:VTIMEZONE
BEGIN:VTIMEZONE
TZID:America/New_York
BEGIN:DAYLIGHT
TZOFFSETFROM:-0500
TZOFFSETTO:-0400
TZNAME:EDT
DTSTART:20200308T070000
END:DAYLIGHT
BEGIN:STANDARD
TZOFFSETFROM:-0400
TZOFFSETTO:-0500
TZNAME:EST
DTSTART:20201101T060000
END:STANDARD
BEGIN:DAYLIGHT
TZOFFSETFROM:-0500
TZOFFSETTO:-0400
TZNAME:EDT
DTSTART:20210314T070000
END:DAYLIGHT
BEGIN:STANDARD
TZOFFSETFROM:-0400
TZOFFSETTO:-0500
TZNAME:EST
DTSTART:20211107T060000
END:STANDARD
BEGIN:DAYLIGHT
TZOFFSETFROM:-0500
TZOFFSETTO:-0400
TZNAME:EDT
DTSTART:20220313T070000
END:DAYLIGHT
BEGIN:STANDARD
TZOFFSETFROM:-0400
TZOFFSETTO:-0500
TZNAME:EST
DTSTART:20221106T060000
END:STANDARD
END:VTIMEZONE
BEGIN:VTIMEZONE
TZID:UTC
BEGIN:STANDARD
TZOFFSETFROM:+0000
TZOFFSETTO:+0000
TZNAME:UTC
DTSTART:20160101T000000
END:STANDARD
END:VTIMEZONE
BEGIN:VEVENT
DTSTART;TZID=America/New_York:20250920T100000
DTEND;TZID=America/New_York:20250920T130000
DTSTAMP:20260421T093826
CREATED:20250830T002027Z
LAST-MODIFIED:20250830T002027Z
UID:9461-1758362400-1758373200@dancingwheels.org
SUMMARY:NOCDO's March for Access
DESCRIPTION:Join the 4th annual March for Access! March for meaningful access to transportation and community inclusion! \n\nSchedule:\nSaturday\, September 20\, 2025\n10:00 am: Visit resource tables and make posters\n11:00 am: Rally and March\n12:00 pm: March photo and resource tables\n\n\n\nAccessibility:\nMasking encouraged\nCaptioning and ASL interpretation of the rally\nWheelchair accessible restrooms and route\nWheelchair charging station\n\nLocation and Transportation:\nRally location: 127 Public Square\, Cleveland\nFrom 9:45 – 12:45 pm: Free parking and ADA shuttle transportation provided by Youth Challenge between the County Board of Developmental Disability Lakeside parking lot and Public Square.\nCCBDD parking lot address: 1275 Lakeside Avenue East\, Cleveland\, OH 44114\n\n\n\nMarch theme and purpose:\nWe will be marching for accessible and inclusive transportation options. This event is to honor and build on the 40th anniversary of the Cleveland Transportation Protests. Mary Verdi-Fletcher\, the Rosa Parks of Cleveland\, will share her true story about capturing buses in 1985 to protest the lack of accessibility.
URL:https://dancingwheels.org/event/nocdos-march-for-access/
LOCATION:Public Square\, 127 Public Square\, Cleveland\, OH\, 44113
CATEGORIES:Community Engagement Opportunity,Guest Speaking
ATTACH;FMTTYPE=image/png:https://dancingwheels.org/wp-content/uploads/2025/08/thumbnail_March-for-access-flyer-2025-FINAL-2.png
ORGANIZER;CN="NOCDO":MAILTO:adaincle@gmail.com
END:VEVENT
BEGIN:VEVENT
DTSTART;TZID=America/New_York:20240728T130000
DTEND;TZID=America/New_York:20240728T143000
DTSTAMP:20260421T093826
CREATED:20240801T005402Z
LAST-MODIFIED:20240801T010653Z
UID:8595-1722171600-1722177000@dancingwheels.org
SUMMARY:Mary Verdi-Fletcher speaks at "Past - Present - Future: Dance Legacy Conversation" in Akron\, OH
DESCRIPTION:Join host GroundWorks Dance Theatre and guest speakers from the Dancing Wheels Company\, Ballet Excel\, Inlet Dance Theatre\, and Ohio Contemporary Ballet in “Past – Present – Future: Dance Legacy Conversation” on Sunday\, July 28\, 204\, facilitated by Christy Bolingbroke\, Founding Executive Artistic Director for the National Center for Choreography (NCC Akron) in Akron\, Ohio.\n\n\n\nPART 1\nFounders Panel | 1–2:30 PM\nLearn about the origins of some of the region’s established dance organizations\, including Ballet Excel\, Dancing Wheels\, Dianne McIntyre\, GroundWorks DanceTheater\, Inlet Dance Theatre\, and Ohio Contemporary Ballet\, each with a history of 20 years or more in Northeast Ohio communities. Visionary founders and leaders will share stories about their organizations’ beginnings and evolution.\n\n\n\nLIGHT LUNCHEON | 2:30–3:00 PM\nEnjoy complimentary food and beverages while you mingle and connect with fellow attendees\, colleagues\, and friends. Get to know new folks\, continue to build relationships\, and strengthen the community around dance in Northeast Ohio.\n\n\n\nPART 2\nNext Generation Panel | 3–4:30 PM\nJoin an interactive panel discussion with individual artists and leaders from some of the region’s dynamic new startups\, companies\, and platforms in dance. Learn about and share insights about topics including current challenges and opportunities in dance\, visions for the future of dance\, successful strategies to advance dance\, and dance as a career choice and life-long practice.\n\n\n\nFREE – LIMITED SEATING\, REGISTRATION REQUIRED.
URL:https://dancingwheels.org/event/mary-verdi-fletcher-speaks-at-past-present-future-dance-legacy-conversation-in-akron-oh/
LOCATION:Cummings Center for the History of Psychology at The University of Akron\, 73 S College St\, Akron\, OH\, 44325\, United States
CATEGORIES:Community Engagement Opportunity,Guest Speaking
END:VEVENT
BEGIN:VEVENT
DTSTART;TZID=America/New_York:20210830T080000
DTEND;TZID=America/New_York:20210930T170000
DTSTAMP:20260421T093826
CREATED:20210919T234259Z
LAST-MODIFIED:20210919T234259Z
UID:6220-1630310400-1633021200@dancingwheels.org
SUMMARY:Dancing Wheels Company Residency at New Orleans Ballet Association
DESCRIPTION:The Dancing Wheels Company will hold a residency with New Orleans Ballet Association’s Freedom of Movement Adaptive Dance Program for Veterans. Seated and wheelchair-based Veteran participants are welcome to participate in these creative\, guided movement sessions. Residency to include both virtual and in-person sessions. More information available HERE.
URL:https://dancingwheels.org/event/dancing-wheels-company-residency-at-new-orleans-ballet-association/
LOCATION:Online
CATEGORIES:Community Engagement Opportunity,Guest Speaking,Lecture Performance,Performance,Performances,Residency,Training,Workshop
END:VEVENT
BEGIN:VEVENT
DTSTART;TZID=America/New_York:20210325T190000
DTEND;TZID=America/New_York:20210325T200000
DTSTAMP:20260421T093826
CREATED:20210206T211554Z
LAST-MODIFIED:20210206T212554Z
UID:5656-1616698800-1616702400@dancingwheels.org
SUMMARY:Keynote Presentation at College Club of Cleveland 7 PM
DESCRIPTION:Mary Verdi-Fletcher\, Founder/Artistic Director of the Dancing Wheels Company & School\, to give a keynote presentation for members of The College Club of Cleveland.
URL:https://dancingwheels.org/event/keynote-presentation-at-college-club-of-cleveland-7-pm/
LOCATION:OH
CATEGORIES:Guest Speaking
END:VEVENT
BEGIN:VEVENT
DTSTART;TZID=UTC:20171008T160000
DTEND;TZID=UTC:20171008T173000
DTSTAMP:20260421T093826
CREATED:20170911T184607Z
LAST-MODIFIED:20230120T063951Z
UID:1813-1507478400-1507483800@dancingwheels.org
SUMMARY:Dance/NYC Disability.Dance.Artistry. Conversation with Dancing Wheels Company & School 4pm at Ailey Studios
DESCRIPTION:Dance/NYC’s Disability. Dance. Artistry. Conversation Series\nConversation with Dancing Wheels Company & School\, October 8\, 2017\, 4:00 – 5:30 pm\nThe Ailey Studios at The Joan Weill Center for Dance\nFeatured Speakers: Catherine Meredith\, Rehearsal Director\, Dancing Wheels Company & School; and Mary Verdi-Fletcher\, President/Founding Artistic Director\, Dancing Wheels Company & School.
URL:https://dancingwheels.org/event/dancenyc-disability-dance-artistry-conversation-with-dancing-wheels-company-school-4pm-at-ailey-studios/
LOCATION:Alvin Ailey American Dance Theater – Studio\, 405 W 55th Street\, New York\, NY\, 10019\, United States
CATEGORIES:Guest Speaking
END:VEVENT
END:VCALENDAR