BEGIN:VCALENDAR
VERSION:2.0
PRODID:-//Dancing Wheels - ECPv6.15.20//NONSGML v1.0//EN
CALSCALE:GREGORIAN
METHOD:PUBLISH
X-ORIGINAL-URL:https://dancingwheels.org
X-WR-CALDESC:Events for Dancing Wheels
REFRESH-INTERVAL;VALUE=DURATION:PT1H
X-Robots-Tag:noindex
X-PUBLISHED-TTL:PT1H
BEGIN:VTIMEZONE
TZID:America/New_York
BEGIN:DAYLIGHT
TZOFFSETFROM:-0500
TZOFFSETTO:-0400
TZNAME:EDT
DTSTART:20180311T070000
END:DAYLIGHT
BEGIN:STANDARD
TZOFFSETFROM:-0400
TZOFFSETTO:-0500
TZNAME:EST
DTSTART:20181104T060000
END:STANDARD
BEGIN:DAYLIGHT
TZOFFSETFROM:-0500
TZOFFSETTO:-0400
TZNAME:EDT
DTSTART:20190310T070000
END:DAYLIGHT
BEGIN:STANDARD
TZOFFSETFROM:-0400
TZOFFSETTO:-0500
TZNAME:EST
DTSTART:20191103T060000
END:STANDARD
BEGIN:DAYLIGHT
TZOFFSETFROM:-0500
TZOFFSETTO:-0400
TZNAME:EDT
DTSTART:20200308T070000
END:DAYLIGHT
BEGIN:STANDARD
TZOFFSETFROM:-0400
TZOFFSETTO:-0500
TZNAME:EST
DTSTART:20201101T060000
END:STANDARD
BEGIN:DAYLIGHT
TZOFFSETFROM:-0500
TZOFFSETTO:-0400
TZNAME:EDT
DTSTART:20210314T070000
END:DAYLIGHT
BEGIN:STANDARD
TZOFFSETFROM:-0400
TZOFFSETTO:-0500
TZNAME:EST
DTSTART:20211107T060000
END:STANDARD
BEGIN:DAYLIGHT
TZOFFSETFROM:-0500
TZOFFSETTO:-0400
TZNAME:EDT
DTSTART:20220313T070000
END:DAYLIGHT
BEGIN:STANDARD
TZOFFSETFROM:-0400
TZOFFSETTO:-0500
TZNAME:EST
DTSTART:20221106T060000
END:STANDARD
END:VTIMEZONE
BEGIN:VTIMEZONE
TZID:UTC
BEGIN:STANDARD
TZOFFSETFROM:+0000
TZOFFSETTO:+0000
TZNAME:UTC
DTSTART:20160101T000000
END:STANDARD
END:VTIMEZONE
BEGIN:VEVENT
DTSTART;TZID=America/New_York:20211012T190000
DTEND;TZID=America/New_York:20211012T193000
DTSTAMP:20260421T143013
CREATED:20210920T012538Z
LAST-MODIFIED:20210920T012612Z
UID:6228-1634065200-1634067000@dancingwheels.org
SUMMARY:Guest Appearance Performance at the OAPN 2021 Conference Juried Showcase 7PM
DESCRIPTION:The Dancing Wheels Company will present a Guest Appearance Performance at the OAPN 2021 Conference Juried Showcase. To register for the conference\, please click HERE.
URL:https://dancingwheels.org/event/guest-appearance-performance-at-the-oapn-2021-conference-juried-showcase-7pm/
LOCATION:Playhouse Square – Mimi Ohio Theatre\, 1501 Euclid Avenue #200\, Cleveland\, OH\, 44115\, United States
CATEGORIES:Conference,Guest Appearance,Performance,Performances
END:VEVENT
BEGIN:VEVENT
DTSTART;TZID=America/New_York:20190622T120000
DTEND;TZID=America/New_York:20190622T124500
DTSTAMP:20260421T143013
CREATED:20190518T155538Z
LAST-MODIFIED:20190518T160312Z
UID:3245-1561204800-1561207500@dancingwheels.org
SUMMARY:Guest Appearance Performance at Abilities Expo in Chicago\, IL 12-12:45pm
DESCRIPTION:June 22\, 2019 \nChicago\, IL \nGuest Appearance Performance at Abilities Expo taking place at Renaissance Schaumburg Convention Center Hotel (1551 N Thoreau Dr N\, Schaumburg\, IL 60173) on Saturday 6/22 at 12-12:45pm \nVisit MobilityWorks booth at the Expo for more information.
URL:https://dancingwheels.org/event/guest-appearance-performance-at-opening-ceremony-of-dance-usa-conference-at-history-center-8-830pm-2/
LOCATION:Renaissance Schaumburg Convention Center Hotel\, 1551 N Thoreau Dr N\, Schaumburg\, IL\, 60173\, United States
CATEGORIES:Conference,Guest Appearance,Performance
END:VEVENT
BEGIN:VEVENT
DTSTART;TZID=America/New_York:20190612T200000
DTEND;TZID=America/New_York:20190612T203000
DTSTAMP:20260421T143013
CREATED:20190518T155538Z
LAST-MODIFIED:20190518T155538Z
UID:3242-1560369600-1560371400@dancingwheels.org
SUMMARY:Guest Appearance Performance at Opening Ceremony of Dance/USA Conference at History Center 8-8:30pm
DESCRIPTION:June 12\, 2019 \nCleveland\, OH \nGuest Appearance Performance at Opening Ceremony of Dance/USA Conference at History Center 8-8:30pm
URL:https://dancingwheels.org/event/guest-appearance-performance-at-opening-ceremony-of-dance-usa-conference-at-history-center-8-830pm/
LOCATION:History Center\, 10825 East Blvd\, Cleveland\, OH\, 44106\, United States
CATEGORIES:Conference,Guest Appearance,Performance
END:VEVENT
BEGIN:VEVENT
DTSTART;VALUE=DATE:20190612
DTEND;VALUE=DATE:20190616
DTSTAMP:20260421T143013
CREATED:20181031T183752Z
LAST-MODIFIED:20190518T173407Z
UID:2723-1560297600-1560643199@dancingwheels.org
SUMMARY:Dance/USA Annual Conference in Cleveland\, OH June 12-15\, 2019
DESCRIPTION:June 12-15\, 2019 \nCleveland\, OH \nDance/USA Annual Conference \n6/14 – Save the date for The Dancing Wheels Company & School’s gala event & performance “Reverse* Reboot* Reveal!” at Playhouse Square Allen Theatre 8pm https://dancingwheels.org/reverserebootreveal/ \n\nThe Dance/USA Annual Conference is an invigorating gathering of dance professionals united by their interests in advancing dance and celebrating the joy of movement. It is a time to honor leaders in the field\, share and access new resources\, and connect with peers through thought-provoking training and conversations. Together\, attendees discover innovative approaches to shared problems and strengthen relationships among fellow dance professionals.\n\n\n \n\n\nJoin dance professionals from across the country and around the world June 12-15 in Cleveland\, and invest in yourself\, your organization\, and the future of dance. \n\n\n \n\n\nLearn more at https://danceusa.force.com/s/lt-event?id=a171J000003UBRpQAO#Home
URL:https://dancingwheels.org/event/dance-usa-annual-conference-in-cleveland-oh-june-12-15-2019/
LOCATION:OH
CATEGORIES:Conference
ATTACH;FMTTYPE=image/jpeg:https://dancingwheels.org/wp-content/uploads/2018/10/cafIZIpH_Website_jpg.jpg
END:VEVENT
BEGIN:VEVENT
DTSTART;VALUE=DATE:20190104
DTEND;VALUE=DATE:20190109
DTSTAMP:20260421T143013
CREATED:20181031T122456Z
LAST-MODIFIED:20181031T122456Z
UID:2702-1546560000-1546991999@dancingwheels.org
SUMMARY:KMP Representing DWC at APAP Conference - New York Hilton Midtown and Sheraton New York Times Square
DESCRIPTION:January 4-8\, 2018 \nNew York\, NY \nKMP Artist Representatives at APAP Conference – New York Hilton Midtown and Sheraton New York Times Square – Exhibitor Booth #2508 / #2510​
URL:https://dancingwheels.org/event/kmp-representing-dwc-at-apap-conference-new-york-hilton-midtown-and-sheraton-new-york-times-square/
LOCATION:OH
CATEGORIES:Conference
END:VEVENT
BEGIN:VEVENT
DTSTART;VALUE=DATE:20170831
DTEND;VALUE=DATE:20170901
DTSTAMP:20260421T143013
CREATED:20170810T173624Z
LAST-MODIFIED:20230122T215248Z
UID:1599-1504137600-1504223999@dancingwheels.org
SUMMARY:Arts Midwest Conference in Columbus\, OH August 28-31\, 2017
DESCRIPTION:About the Conference\n\n\n\n\n\nThe preeminent booking and education conference for the Midwest performing arts industry will take place Monday\, August 28–Thursday\, August 31\, 2017 at the Hyatt Regency Columbus. \nConnect with your colleagues and experience the performing arts together. We are 1\,100 arts professional comprising Midwest performing arts presenters; artists\, managers\, and agents; and arts administrators from communities across the country and beyond. \nExplore thousands of artists in our exhibit hall and see hundreds of performances. Be inspired by the creativity and expression of artists from all genres: dance\, music\, theater\, variety\, youth & family\, and everything in between. \nChallenge your perceptions. Raise the important questions. Bring new ideas home. We’re committed to introducing new voices\, elevating diverse perspectives\, and finding innovative solutions to our challenges. \nMake lasting memories. It’s a busy four days\, but there’s still time to discover Columbus with your colleagues–from the Columbus Museum of Art to a baseball game at Huntington Park.
URL:https://dancingwheels.org/event/arts-midwest-conference-in-columbus-oh-august-28-31-2017/
LOCATION:Hyatt Regency Columbus\, 350 N High Street\, Columbus\, OH\, 43215\, United States
CATEGORIES:Conference
END:VEVENT
BEGIN:VEVENT
DTSTART;TZID=UTC:20170830T220000
DTEND;TZID=UTC:20170830T222500
DTSTAMP:20260421T143013
CREATED:20170810T214602Z
LAST-MODIFIED:20170810T231151Z
UID:1608-1504130400-1504131900@dancingwheels.org
SUMMARY:The Dancing Wheels Company Arts Midwest Independent Dance Showcase 10pm @ BalletMet
DESCRIPTION:OhioDance and KMP Artists co-facilitate Independant Dance Showcases including our own showcase on Wednesday\, August 30th at 10-10:25pm in the BalletMet Performance Space (322 Mount Vernon Avenue\, behind BalletMet Dance Centre). \nThe Dancing Wheels Company will perform works that introduce audiences to the compelling and innovative movement that is physically integrated dance.  Choreographer Lisa K. Lock’s critically-acclaimed Walls of Glass (2009) is a contemporary ballet which speaks of people and diversity\, each with their own story and each daring to dream.  In one such hopeful section of the ballet\, Mary\, a dancer in a wheelchair\, is able to stand equal to her able-bodied partners in a device that allows her to glide across the stage and engage in elegantly partnered movements.  In addition\, anømalies [excerpt] (2012)\, based on the concepts of Newton’s Laws of Motion and choreographed by Mark Tomasic\, is an action (and reaction) packed force to be reckoned with. \nFor persons attending the Arts Midwest Conference\, shuttle services will be available from Davidson Theater (immediately after Spotlight Showcases) and will then be looping from the Hyatt Regency. \nAlthough not required\, RSVPs requested by emailing info@kmpartists.com or at booth #401. \nFor booking inquiries\, please email Dancing Wheels Tour Manager or speak with KMP Artists at their Arts Midwest Conference booth. \n  \n  \n 
URL:https://dancingwheels.org/event/the-dancing-wheels-company-arts-midwest-independent-dance-showcase/
LOCATION:BalletMet Performance Space\, 322 Mount Vernon Avenue\, Columbus\, OH\, 43215\, United States
CATEGORIES:Conference,Performance,Showcase
ATTACH;FMTTYPE=image/jpeg:https://dancingwheels.org/wp-content/uploads/2017/08/Arts-Midwest-Dance-Showcases.jpg
END:VEVENT
BEGIN:VEVENT
DTSTART;VALUE=DATE:20170830
DTEND;VALUE=DATE:20170831
DTSTAMP:20260421T143013
CREATED:20170810T173747Z
LAST-MODIFIED:20230122T215311Z
UID:1607-1504051200-1504137599@dancingwheels.org
SUMMARY:Arts Midwest Conference in Columbus\, OH August 28-31\, 2017  Copy
DESCRIPTION:About the Conference\n\n\n\n\n\nThe preeminent booking and education conference for the Midwest performing arts industry will take place Monday\, August 28–Thursday\, August 31\, 2017 at the Hyatt Regency Columbus. \nConnect with your colleagues and experience the performing arts together. We are 1\,100 arts professional comprising Midwest performing arts presenters; artists\, managers\, and agents; and arts administrators from communities across the country and beyond. \nExplore thousands of artists in our exhibit hall and see hundreds of performances. Be inspired by the creativity and expression of artists from all genres: dance\, music\, theater\, variety\, youth & family\, and everything in between. \nChallenge your perceptions. Raise the important questions. Bring new ideas home. We’re committed to introducing new voices\, elevating diverse perspectives\, and finding innovative solutions to our challenges. \nMake lasting memories. It’s a busy four days\, but there’s still time to discover Columbus with your colleagues–from the Columbus Museum of Art to a baseball game at Huntington Park.
URL:https://dancingwheels.org/event/arts-midwest-conference-in-columbus-oh-august-28-31-2017-copy-3/
LOCATION:Hyatt Regency Columbus\, 350 N High Street\, Columbus\, OH\, 43215\, United States
CATEGORIES:Conference
END:VEVENT
BEGIN:VEVENT
DTSTART;VALUE=DATE:20170829
DTEND;VALUE=DATE:20170830
DTSTAMP:20260421T143013
CREATED:20170810T173725Z
LAST-MODIFIED:20230122T215333Z
UID:1606-1503964800-1504051199@dancingwheels.org
SUMMARY:Arts Midwest Conference in Columbus\, OH August 28-31\, 2017  Copy
DESCRIPTION:About the Conference\n\n\n\n\n\nThe preeminent booking and education conference for the Midwest performing arts industry will take place Monday\, August 28–Thursday\, August 31\, 2017 at the Hyatt Regency Columbus. \nConnect with your colleagues and experience the performing arts together. We are 1\,100 arts professional comprising Midwest performing arts presenters; artists\, managers\, and agents; and arts administrators from communities across the country and beyond. \nExplore thousands of artists in our exhibit hall and see hundreds of performances. Be inspired by the creativity and expression of artists from all genres: dance\, music\, theater\, variety\, youth & family\, and everything in between. \nChallenge your perceptions. Raise the important questions. Bring new ideas home. We’re committed to introducing new voices\, elevating diverse perspectives\, and finding innovative solutions to our challenges. \nMake lasting memories. It’s a busy four days\, but there’s still time to discover Columbus with your colleagues–from the Columbus Museum of Art to a baseball game at Huntington Park.
URL:https://dancingwheels.org/event/arts-midwest-conference-in-columbus-oh-august-28-31-2017-copy-2/
LOCATION:Hyatt Regency Columbus\, 350 N High Street\, Columbus\, OH\, 43215\, United States
CATEGORIES:Conference
END:VEVENT
BEGIN:VEVENT
DTSTART;VALUE=DATE:20170828
DTEND;VALUE=DATE:20170829
DTSTAMP:20260421T143013
CREATED:20170810T173653Z
LAST-MODIFIED:20230122T215351Z
UID:1605-1503878400-1503964799@dancingwheels.org
SUMMARY:Arts Midwest Conference in Columbus\, OH August 28-31\, 2017  Copy
DESCRIPTION:About the Conference\n\n\n\n\n\nThe preeminent booking and education conference for the Midwest performing arts industry will take place Monday\, August 28–Thursday\, August 31\, 2017 at the Hyatt Regency Columbus. \nConnect with your colleagues and experience the performing arts together. We are 1\,100 arts professional comprising Midwest performing arts presenters; artists\, managers\, and agents; and arts administrators from communities across the country and beyond. \nExplore thousands of artists in our exhibit hall and see hundreds of performances. Be inspired by the creativity and expression of artists from all genres: dance\, music\, theater\, variety\, youth & family\, and everything in between. \nChallenge your perceptions. Raise the important questions. Bring new ideas home. We’re committed to introducing new voices\, elevating diverse perspectives\, and finding innovative solutions to our challenges. \nMake lasting memories. It’s a busy four days\, but there’s still time to discover Columbus with your colleagues–from the Columbus Museum of Art to a baseball game at Huntington Park.
URL:https://dancingwheels.org/event/arts-midwest-conference-in-columbus-oh-august-28-31-2017-copy/
LOCATION:Hyatt Regency Columbus\, 350 N High Street\, Columbus\, OH\, 43215\, United States
CATEGORIES:Conference
END:VEVENT
BEGIN:VEVENT
DTSTART;VALUE=DATE:20170806
DTEND;VALUE=DATE:20170808
DTSTAMP:20260421T143013
CREATED:20170615T225105Z
LAST-MODIFIED:20170615T225909Z
UID:1462-1501977600-1502150399@dancingwheels.org
SUMMARY:VSA Intersections Conference in Austin\, TX August 6-7\, 2017
DESCRIPTION:The Dancing Wheels Company & School will be present at \nVSA Intersections: Arts and Special Education Conference\nA Jean Kennedy Smith Arts and Disability Program\n  \n2017 Conference–Austin\, TX\nAugust 6-7\, 2017 \nJoin us!\nThrough innovative\, thought-provoking\, and interactive sessions\, the VSA Intersections: Arts and Special Education Conference provides professionals in the intersecting fields of arts education and special education the opportunity to share current information in research\, practice\, programs\, and policy\, and serve as a leading catalyst for change. This conference brings together educators\, administrators\, researchers\, teaching artists\, and more to build new skills\, transfer knowledge\, network\, and\, ultimately\, help to shape the best practices-improving educational experiences for students with disabilities learning in and through the arts. \nRegistration is Open!\nFor more information on the 2017 VSA Intersections: Arts and Special Education Conference\, including the conference schedule\, hotel accommodations\, and more\, and to register now\, please click here to be directed to the conference site.
URL:https://dancingwheels.org/event/vsa-intersections-arts-and-special-education-conference-in-austin-tx-august-6-7-2017/
LOCATION:OH
CATEGORIES:Conference
END:VEVENT
BEGIN:VEVENT
DTSTART;VALUE=DATE:20170607
DTEND;VALUE=DATE:20170609
DTSTAMP:20260421T143013
CREATED:20170615T223240Z
LAST-MODIFIED:20170615T225221Z
UID:1455-1496793600-1496966399@dancingwheels.org
SUMMARY:Dance/USA Annual Conference in Kansas City\, MO
DESCRIPTION:Dancing Wheels’ own Founder & Artistic Director and Dance/USA Board Member Mary Verdi-Fletcher will represent The Dancing Wheels Company & School at Dance/USA’s 9th Annual Conference in Kansas City\, MO from June 7-10\, 2017. Dance/USA will also be celebrating its 35th Anniversary in 2017! \nFrom executive directors and emerging arts leaders to managers and presenters\, agents and artists\, join nearly 450 individuals associated with the professional dance field for networking\, creative conversation\, enriching training sessions\, discussion on important issues facing the field\, and performances. Join us in Kansas City to learn from industry experts and be inspired to advance dance together in business and on stage at this exciting national convening!
URL:https://dancingwheels.org/event/danceusa-annual-conference-in-kansas-city-mo/
LOCATION:OH
CATEGORIES:Conference
END:VEVENT
END:VCALENDAR