BEGIN:VCALENDAR
VERSION:2.0
PRODID:-//Dancing Wheels - ECPv6.15.20//NONSGML v1.0//EN
CALSCALE:GREGORIAN
METHOD:PUBLISH
X-ORIGINAL-URL:https://dancingwheels.org
X-WR-CALDESC:Events for Dancing Wheels
REFRESH-INTERVAL;VALUE=DURATION:PT1H
X-Robots-Tag:noindex
X-PUBLISHED-TTL:PT1H
BEGIN:VTIMEZONE
TZID:America/New_York
BEGIN:DAYLIGHT
TZOFFSETFROM:-0500
TZOFFSETTO:-0400
TZNAME:EDT
DTSTART:20210314T070000
END:DAYLIGHT
BEGIN:STANDARD
TZOFFSETFROM:-0400
TZOFFSETTO:-0500
TZNAME:EST
DTSTART:20211107T060000
END:STANDARD
BEGIN:DAYLIGHT
TZOFFSETFROM:-0500
TZOFFSETTO:-0400
TZNAME:EDT
DTSTART:20220313T070000
END:DAYLIGHT
BEGIN:STANDARD
TZOFFSETFROM:-0400
TZOFFSETTO:-0500
TZNAME:EST
DTSTART:20221106T060000
END:STANDARD
BEGIN:DAYLIGHT
TZOFFSETFROM:-0500
TZOFFSETTO:-0400
TZNAME:EDT
DTSTART:20230312T070000
END:DAYLIGHT
BEGIN:STANDARD
TZOFFSETFROM:-0400
TZOFFSETTO:-0500
TZNAME:EST
DTSTART:20231105T060000
END:STANDARD
END:VTIMEZONE
BEGIN:VEVENT
DTSTART;TZID=America/New_York:20220610T190000
DTEND;TZID=America/New_York:20220610T220000
DTSTAMP:20260421T060502
CREATED:20220312T163742Z
LAST-MODIFIED:20220312T163742Z
UID:6417-1654887600-1654898400@dancingwheels.org
SUMMARY:Beyond Barriers\, Boundaries & Belief!
DESCRIPTION:Join the Dancing Wheels Company & School for our 2021-2022 season Gala on Friday\, June 10 at 7pm at the Playhouse Square Allen Theatre. \nMore details to come!
URL:https://dancingwheels.org/event/beyond-barriers-boundaries-belief/
LOCATION:Playhouse Square – Allen Theatre\, 1407 Euclid Ave\, Cleveland\, OH\, 44115\, United States
CATEGORIES:Benefit,Gala,Performance,Performances
END:VEVENT
END:VCALENDAR